BEGIN:VCALENDAR
VERSION:2.0
PRODID:-//SIMRI - ECPv6.11.2//NONSGML v1.0//EN
CALSCALE:GREGORIAN
METHOD:PUBLISH
X-WR-CALNAME:SIMRI
X-ORIGINAL-URL:https://www.simri.it
X-WR-CALDESC:Events for SIMRI
REFRESH-INTERVAL;VALUE=DURATION:PT1H
X-Robots-Tag:noindex
X-PUBLISHED-TTL:PT1H
BEGIN:VTIMEZONE
TZID:Europe/Helsinki
BEGIN:DAYLIGHT
TZOFFSETFROM:+0200
TZOFFSETTO:+0300
TZNAME:EEST
DTSTART:20260329T010000
END:DAYLIGHT
BEGIN:STANDARD
TZOFFSETFROM:+0300
TZOFFSETTO:+0200
TZNAME:EET
DTSTART:20261025T010000
END:STANDARD
END:VTIMEZONE
BEGIN:VEVENT
DTSTART;TZID=Europe/Helsinki:20260420T215320
DTEND;TZID=Europe/Helsinki:20260420T215320
DTSTAMP:20260420T225320
CREATED:20250506T110643Z
LAST-MODIFIED:20260415T161113Z
UID:12504-1776722000-1776722000@www.simri.it
SUMMARY:3° Congress INSPIRED - International Society of Pediatric Respiratory Disease. Barcellona\, 26-29 giugno 2025
DESCRIPTION:The 3rd INSPIRED – International Society of Pediatric Respiratory Disease Congress will be held in Barcelona on 26-29 June 2025. \nResearchers\, clinicians and healthcare professionals are invited to submit their abstracts to be considered and contribute to the future of pediatric respiratory care\, gain recognition and network with experts in the field. \nFor more information visit the website
URL:https://www.simri.it/en/evento/3-congress-inspired-international-society-of-pediatric-respiratory-disease-barcellona-26-29-giugno-2025-2/
ATTACH;FMTTYPE=image/png:https://www.simri.it/wp-content/uploads/2024/12/inspired.png
END:VEVENT
END:VCALENDAR