BEGIN:VCALENDAR
VERSION:2.0
PRODID:-//SIMRI - ECPv6.11.2//NONSGML v1.0//EN
CALSCALE:GREGORIAN
METHOD:PUBLISH
X-WR-CALNAME:SIMRI
X-ORIGINAL-URL:https://www.simri.it
X-WR-CALDESC:Events for SIMRI
REFRESH-INTERVAL;VALUE=DURATION:PT1H
X-Robots-Tag:noindex
X-PUBLISHED-TTL:PT1H
BEGIN:VTIMEZONE
TZID:Europe/Helsinki
BEGIN:DAYLIGHT
TZOFFSETFROM:+0200
TZOFFSETTO:+0300
TZNAME:EEST
DTSTART:20250330T010000
END:DAYLIGHT
BEGIN:STANDARD
TZOFFSETFROM:+0300
TZOFFSETTO:+0200
TZNAME:EET
DTSTART:20251026T010000
END:STANDARD
END:VTIMEZONE
BEGIN:VEVENT
DTSTART;TZID=Europe/Helsinki:20250927T080000
DTEND;TZID=Europe/Helsinki:20251001T170000
DTSTAMP:20260420T213759
CREATED:20250715T175913Z
LAST-MODIFIED:20250715T175913Z
UID:13515-1758960000-1759338000@www.simri.it
SUMMARY:ERS Congress 2025 – Amsterdam
DESCRIPTION:The ERS Congress 2025 will be held in Amsterdam on September 27–October 1\, 2025. \nThis year’s ERS Congress will feature 400 scientific and educational sessions covering all areas of respiratory health and medicine\, including content for all specialty areas\, hot topics and major disease areas\, sessions dedicated to early-career professionals\, and sessions related to this year’s Congress theme\, “Respiratory Health Around the World.” \nEarly registration for the ERS Congress 2025 closes in less than a month!\nRegister by 11:59 PM CEST on Wednesday\, July 9\, 2025\, to benefit from significantly discounted rates. Joint members of SIMRI and ERS are eligible for discounted member-only rates. \nRegistration for the ERS Congress is available HERE
URL:https://www.simri.it/en/evento/ers-congress-2025-amsterdam/
LOCATION:Amsterdam
CATEGORIES:International Events
ATTACH;FMTTYPE=image/png:https://www.simri.it/wp-content/uploads/2025/06/ers2025.png
END:VEVENT
END:VCALENDAR