BEGIN:VCALENDAR
VERSION:2.0
PRODID:-//SIMRI - ECPv6.11.2//NONSGML v1.0//EN
CALSCALE:GREGORIAN
METHOD:PUBLISH
X-WR-CALNAME:SIMRI
X-ORIGINAL-URL:https://www.simri.it
X-WR-CALDESC:Eventi per SIMRI
REFRESH-INTERVAL;VALUE=DURATION:PT1H
X-Robots-Tag:noindex
X-PUBLISHED-TTL:PT1H
BEGIN:VTIMEZONE
TZID:Atlantic/Azores
BEGIN:DAYLIGHT
TZOFFSETFROM:-0100
TZOFFSETTO:+0000
TZNAME:+00
DTSTART:20240331T010000
END:DAYLIGHT
BEGIN:STANDARD
TZOFFSETFROM:+0000
TZOFFSETTO:-0100
TZNAME:-01
DTSTART:20241027T010000
END:STANDARD
BEGIN:DAYLIGHT
TZOFFSETFROM:-0100
TZOFFSETTO:+0000
TZNAME:+00
DTSTART:20250330T010000
END:DAYLIGHT
BEGIN:STANDARD
TZOFFSETFROM:+0000
TZOFFSETTO:-0100
TZNAME:-01
DTSTART:20251026T010000
END:STANDARD
BEGIN:DAYLIGHT
TZOFFSETFROM:-0100
TZOFFSETTO:+0000
TZNAME:+00
DTSTART:20260329T010000
END:DAYLIGHT
BEGIN:STANDARD
TZOFFSETFROM:+0000
TZOFFSETTO:-0100
TZNAME:-01
DTSTART:20261025T010000
END:STANDARD
END:VTIMEZONE
BEGIN:VTIMEZONE
TZID:UTC
BEGIN:STANDARD
TZOFFSETFROM:+0000
TZOFFSETTO:+0000
TZNAME:UTC
DTSTART:20240101T000000
END:STANDARD
END:VTIMEZONE
BEGIN:VTIMEZONE
TZID:Europe/Helsinki
BEGIN:DAYLIGHT
TZOFFSETFROM:+0200
TZOFFSETTO:+0300
TZNAME:EEST
DTSTART:20250330T010000
END:DAYLIGHT
BEGIN:STANDARD
TZOFFSETFROM:+0300
TZOFFSETTO:+0200
TZNAME:EET
DTSTART:20251026T010000
END:STANDARD
BEGIN:DAYLIGHT
TZOFFSETFROM:+0200
TZOFFSETTO:+0300
TZNAME:EEST
DTSTART:20260329T010000
END:DAYLIGHT
BEGIN:STANDARD
TZOFFSETFROM:+0300
TZOFFSETTO:+0200
TZNAME:EET
DTSTART:20261025T010000
END:STANDARD
END:VTIMEZONE
BEGIN:VEVENT
DTSTART;TZID=Atlantic/Azores:20240101T080000
DTEND;TZID=Atlantic/Azores:20261231T170000
DTSTAMP:20260420T123424
CREATED:20240418T115327Z
LAST-MODIFIED:20241025T205808Z
UID:1639-1704096000-1798736400@www.simri.it
SUMMARY:Tecnologie digitali innovative per l'assistenza respiratoria pediatrica
DESCRIPTION:Coordinatore Gruppo di Studio\nProf.ssa Amelia Licari\nIl GdS “PeDiTCare” si propone di sviluppare una rete multidisciplinare SIMRI che promuova la ricerca sull’implementazione dell’assistenza sanitaria digitale nell’ambito delle malattie respiratorie infantili. \nA tal fine\, si propone di raggiungere i seguenti obiettivi: \n\nMappare la conoscenza e l’uso delle tecnologie digitali nell’ambito dei centri SIMRI di pneumologia pediatrica;\nImplementare l’assistenza sanitaria digitale in ambito pneumologico pediatrico\, per definire l’ambito di applicazione\, identificare gli ostacoli e i fattori che ne favoriscono la diffusione su larga scala e pubblicare un documento di sintesi attraverso la creazione di un network di ricerca nazionale.\n\nLa mappatura si propone di fornire una panoramica completa della situazione attuale dell’utilizzo delle tecnologie digitali in pneumologia pediatrica in Italia. I risultati della mappatura saranno utili per identificare le aree di miglioramento e per promuovere lo sviluppo di queste tecnologie in questo settore. La creazione del network di ricerca ha come obiettivo principale quello di promuovere lo sviluppo e l’implementazione delle tecnologie digitali in pneumologia pediatrica\, al fine di migliorare la qualità dell’assistenza sanitaria ai bambini affetti da malattie respiratorie. \nTecnologie digitali innovative per l’assistenza respiratoria pediatrica (Pediatric Digital Technologies for Respiratory Care\, PeDiTCare\nObiettivi e sintesi delle attività del GdS\nIl GdS si propone di sviluppare una rete multidisciplinare SIMRI che promuova la ricerca sull’implementazione dell’assistenza sanitaria digitale nell’ambito delle malattie respiratorie infantili. \nA tal fine\, si propone di raggiungere i seguenti obiettivi: \n\n\n\nMappare la conoscenza e l’uso delle tecnologie digitali nell’ambito dei centri SIMRI di pneumologia pediatrica;\n\n\n\n\n\n\nImplementare l’assistenza sanitaria respiratoria digitale in ambito pneumologico pediatrico\, per definire l’ambito di applicazione\, identificare gli ostacoli e i fattori che ne favoriscono la diﬀusione su larga scala e pubblicare un documento di sintesi attraverso la creazione di un network di ricerca nazionale.\n\n\n\nMetodologia\nObiettivo 1\nLa mappatura della conoscenza e l’uso delle tecnologie digitali sarà articolata in 3 fasi. \nFase 1\, deﬁnizione degli obiettivi e degli strumenti.\nTale fase consiste nella definizione degli obiettivi della mappatura e degli strumenti che verranno utilizzati. \nGli obiettivi potranno essere\, ad esempio\, quelli di: \n\nidentificare le tecnologie digitali già in uso nei centri SIMRI di pneumologia pediatrica in Italia;\nvalutare il livello di conoscenza e di utilizzo di queste tecnologie da parte dei professionisti;\nidentificare le barriere e le opportunità all’utilizzo di queste tecnologie;\nidentificare le aree di interesse e di sviluppo;\npromuovere la condivisione di conoscenze e competenze.\n\nGli strumenti utilizzati potranno includere\, ad esempio\, questionari online\, interviste o focus group. \nFase 2\, raccolta dei dati.\nTale fase consiste nella raccolta dei dati necessari per raggiungere gli obiettivi della mappatura. I dati saranno raccolti attraverso uno o più strumenti\, come quelli indicati nella Fase 1. La dimensione del campione e il metodo di campionamento saranno determinati in base agli obiettivi della mappatura e agli strumenti selezionati. \nFase 3\, analisi dei dati e presentazione dei risultati.\nTale fase consiste nell’analisi dei dati raccolti e nella disseminazione dei risultati della mappatura. I risultati saranno presentati in forma di pubblicazione scientifica. \nObiettivo 2\nLa creazione di un network multidisciplinare di ricerca mirato ad implementare l’assistenza sanitaria respiratoria digitale in ambito pneumologico pediatrico che sarà articolata nelle seguenti fasi: \nFase 1\, deﬁnizione degli obiettivi e degli ambiti di ricerca: \nGli obiettivi saranno\, ad esempio\, la programmazione di attività di formazione e sensibilizzazione sulle tecnologie digitali in ambito respiratorio rivolte agli operatori sanitari ed eventualmente anche ai pazienti\, lo sviluppo di nuove tecnologie per la diagnosi e il trattamento delle malattie respiratorie pediatriche\, la valutazione dell’efficacia dell’assistenza sanitaria respiratoria digitale\, o la definizione di linee guida per l’implementazione di tali tecnologie. Gli ambiti di ricerca includeranno\, ad esempio\, la telemedicina\, l’intelligenza artificiale\, la realtà virtuale. \nFase 2\, reclutamento dei partecipanti al network multidisciplinare di ricerca: \nI partecipanti saranno ricercatori\, medici\, infermieri\, pazienti\, rappresentanti delle istituzioni. Questo permetterà di garantire che gli obiettivi e gli ambiti di ricerca siano coerenti con le esigenze dei pazienti e dei professionisti sanitari e che i risultati siano rappresentativi della realtà. \nFase 3\, sviluppo e implementazione del piano di ricerca:\nIl piano di ricerca definirà le metodologie di ricerca\, i criteri di inclusione ed esclusione dei partecipanti e i tempi di realizzazione del progetto. L’implementazione del piano di ricerca includerà la raccolta dei dati\, la loro analisi\, e la pubblicazione dei risultati. \nFase 4\, disseminazione dei risultati del progetto: \nI risultati saranno pubblicati su riviste scientifiche\, presentati a congressi o diﬀusi attraverso altri canali della SIMRI. \nRicadute previste dell’attività del GdS\nI vantaggi di avere un GdS sulle tecnologie digitali innovative in medicina respiratoria pediatrica nel contesto della SIMRI sono molteplici. Innanzitutto\, un gruppo di lavoro di questo tipo può contribuire a promuovere la ricerca e lo sviluppo di nuove tecnologie che possano migliorare la diagnosi\, la cura e la gestione delle malattie respiratorie nei bambini. In particolare\, un tale GdS può favorire la collaborazione tra ricercatori di diverse discipline\, come la medicina\, l’ingegneria e le scienze informatiche\, per sviluppare tecnologie innovative e personalizzate. \nIn secondo luogo\, un tale GdS può contribuire a diﬀondere la conoscenza e l’utilizzo delle tecnologie digitali in medicina respiratoria pediatrica. Ciò verrà realizzato attraverso attività di formazione e sensibilizzazione rivolte a medici\, infermieri\, ricercatori e pazienti e caregiver. In questo modo\, si può contribuire a migliorare la qualità dell’assistenza sanitaria oﬀerta ai bambini con malattie respiratorie. \nInfine\, un tale GdS può contribuire a promuovere la collaborazione tra istituzioni e organizzazioni che si occupano di medicina respiratoria pediatrica. Ciò verrà fatto attraverso attività di coordinamento e di sviluppo di progetti comuni. In questo modo\, si può contribuire a migliorare l’efficienza e l’efficacia delle cure oﬀerte ai bambini con malattie respiratorie. \nIl network di ricerca può infine essere aperto a nuove collaborazioni intersocietarie nazionali e\, eventualmente\, internazionali. Questo permetterà di ampliare la base di conoscenze e di migliorare l’impatto del progetto. \nPer maggiori informazioni\, scrivi a: segreteria@simri.it
URL:https://www.simri.it/evento/tecnologie-digitali-innovative-per-lassistenza-respiratoria-pediatrica/
CATEGORIES:Gruppi di Studio,NoIndex
END:VEVENT
BEGIN:VEVENT
DTSTART;TZID=UTC:20240101T080000
DTEND;TZID=UTC:20261231T170000
DTSTAMP:20260420T123424
CREATED:20240418T121621Z
LAST-MODIFIED:20241025T205751Z
UID:1660-1704096000-1798736400@www.simri.it
SUMMARY:Disturbi Respiratori del Sonno in età pediatrica: identificazione precoce\, gestione multidisciplinare e transizione in età adulta
DESCRIPTION:Coordinatore Gruppo di Studio\nDr. Luigi Masini\nI Disturbi Respiratori del Sonno(DRS) comprendono:  \n\nrussamento; \nipoventilazione ostruttiva; \nsindrome delle aumentate resistenze delle alte vie aeree (UARS); \nsindrome delle apnee ostruttive nel sonno (OSA); \nApparent Life Threatening Event (ALTE)\, Brief Resolved Unexplained Event ( BRUE) e le S. da  ipoventilazione centrale. \n\nRussamento in età pre-scolare e scolare\nIl russamento ha una prevalenza del 7%-10% e l’OSAS del 1.1-2.9%in età pre-scolare e scolare. I DRS hanno importanti complicanze cardio-vascolari\, neuro-comportamentali e sull’accrescimento. Fondamentale è l’identificazione precoce dei casi\, la gestione multidisciplinare ed il percorso di transizione in età adulta. L’attività prevista dal gruppo di studio è così articolata: (Durata prevista 36 mesi) \nRicerca scientifica sul Disturbi Respiratori del Sonno(DRS) \nsi intende valutare\, su tutto il territorio nazionale\, con una survey\, se per i DRS in età pediatrica sia possibile un’identificazione precoce dei casi\, un approccio multidisciplinare e un percorso di transizione dall’età pediatrica all’età adulta\, identificando i casi che lo richiedono\, gli operatori coinvolti e la soddisfazione riportata nella gestione dei casi. Seguita da una rielaborazione statistica dei dati ottenuti. Verrà effettuata una valutazione dell’appropriatezza di procedure diagnostico-terapeutiche da un panel di esperti (metodo RAND/UCLA) e la realizzare un articolo su rivista scientifica.  \nAttività formativa DRS\nsi intende organizzare un percorso di formazione per migliorare la conoscenza dei DRS con la realizzazione di corsi teorico-pratico a distanza (FAD) e frontali\, accreditati ECM e differenziati in Corsi di Livello Base/Intermedio /Avanzato; con attenzione alla formazione dei Membri Junior del Gruppo di studio con erogazione di borse di studio per partecipare ai corsi di formazione sui DRS pediatrici. Si intende favorire l’insegnamento dei DRS nel Corso di specializzazione in Pediatria e in corsi affini. \nAttività Informativa\nsi intende organizzare una campagna di sensibilizzazione per  bambini\, famiglie ed operatori sanitari\, cartacea e digitale\, disponibile per il sito SIMRI\, sulle informazioni per riconoscere precocemente i DRS nel bambino\, le loro complicazioni\, i percorsi diagnostico-terapeutici e di transizione.  Proseguirà il “Pediatric Sleep Journal Club” a cui si assocerà una “Pediatric Grand Round” trimestrale  su un caso clinico di DRS e webinar sul tema dei DRS. L’attività informativa sarà condivisa con le associazioni di pazienti per favorire un’ampia diffusione del materiale realizzato. \nPer maggiori informazioni\, scrivi a: segreteria@simri.it
URL:https://www.simri.it/evento/disturbi-respiratori-del-sonno-in-eta-pediatrica-identificazione-precoce-gestione-multidisciplinare-e-transizione-in-eta-adulta/
CATEGORIES:Gruppi di Studio,NoIndex
END:VEVENT
BEGIN:VEVENT
DTSTART;TZID=UTC:20240101T080000
DTEND;TZID=UTC:20261231T170000
DTSTAMP:20260420T123424
CREATED:20240418T125549Z
LAST-MODIFIED:20241025T205734Z
UID:1681-1704096000-1798736400@www.simri.it
SUMMARY:La transizione nelle patologie respiratorie croniche dell'infanzia
DESCRIPTION:Coordinatore Gruppo di Studio\nDott.ssa Annalisa Allegorico\nDescrizione delle Finalità e degli Obiettivi del Gruppo di Studio transizione nelle patologie respiratorie croniche dell’infanzia\nL’adolescenza viene definita come fase evolutiva della vita che l’individuo attraversa nel passaggio dal mondo infantile a quello adulto. Il passaggio programmato e finalizzato dell’adolescente da un sistema di cure centrato sul bambino a uno orientato sull’adulto definisce il campo della medicina di transizione che assume una particolare rilevanza in Pneumologia pediatrica in riferimento agli adolescenti con patologia respiratoria cronica è\, in molti casi\, con necessità di presa in carico multidisciplinare che vede coinvolte diverse componenti assistenziali: il centro Specialistico Pediatrico\, il PDF\, Il MMG\, gli specialisti ambulatoriali\, il centro Specialistico di riferimento per l’età adulta\, i servizi territoriali distrettuali\, sociali e socio assistenziali. \nSecondo un recente documento della Società Italiana di Pediatria\, il concetto di cronicità in età pediatrica si riferisce a “bambini con bisogni assistenziali speciali a maggior rischio di condizione cronica nella sfera fisica\, evolutiva\, comportamentale ed emotiva\, che richiedono servizi socio- sanitari di tipo e dimensione diversa da quelli usuali”\, includendo poche condizioni cliniche frequenti e molte condizioni rare. La sopravvivenza di pazienti\, con condizioni un tempo considerate letali\, ha determinato un incremento delle malattie croniche\, con una prevalenza stimata nella popolazione pediatrica (0-16 anni) di 1:200. \nLe malattie respiratorie croniche quali l’asma\, la fibrosi cistica\, le malattie neuromuscolari\, grazie alle innovazioni in campo diagnostico e terapeutico\, si pensi in particolare alle terapie geniche per le malattie neuromuscolari\, hanno determinato un aumento della sopravvivenza con la necessità di un trasferimento o\, ancora meglio\, di una condivisione\, del paziente da parte dei centri specialistici dell’età pediatrica e dell’adulto. \nLe problematiche legate alla transizione di questi pazienti dall’età pediatrica a quella dell’adulto\, già motivo di studio e di proposte operative\, sono espressamente richiamate dal piano nazionale delle cronicità (PNC) che sottolinea come l’aumentata sopravvivenza di pazienti affetti da malattia cronica\, è fonte di una carenza assistenziale critica e tale da rendere necessario ed urgente un intervento di sanità pubblica per la costruzione di percorsi assistenziali per il giovane adulto. \nIn quest’ottica il Piano sottolinea la necessità di adottare modelli di transizione dall’età adolescenziale all’età adulta che\, attraverso una comunicazione efficace tra i medici pediatri e i medici dell’adulto\, consentano la realizzazione di protocolli per la transizione attraverso un percorso condiviso e strutturato\, tra servizi pediatrici e servizi per gli adulti. \nDa queste considerazioni nasce proposta della costituzione di un gruppo di Studio SIMRI che abbia come obiettivo quello di mettere a fuoco le problematiche della transizione\, dall’età adolescenziale all’adulto\, dei pazienti con malattia respiratoria cronica\, raccogliendo le raccomandazioni del PNC ed individuando possibili soluzioni organizzative anche attraverso l’adozione di protocolli\, Linee guida o Specifici PDTA. \nObiettivi e Timeline\n\nRealizzare una “mappatura” dei centri specialistici della Pneumologia pediatrica e dell’adulto.\nIndividuare percorsi volti favorire una comunicazione efficace tra specialisti pediatri e dell’adulto ed a facilitare lo scambio di informazioni cliniche anche attraverso l’utilizzo della telemedicina.\nProporre un modello di Libretto Sanitario Personale\, anche elettronico\, che possa raccogliere in modo sintetico ma completo la storia clinica del paziente.\nIndividuare percorsi formativi per il personale sanitario e non sanitario che opera nei contesti relazionali degli adolescenti finalizzati a specializzare figure professionali altamente qualificate nella gestione delle problematiche della transizione.\nDefinire protocolli di transizione con percorsi ben identificati e condivisi anche attraverso la realizzazione di Linee Guida societarie.\n\n  \nCollaborazioni al Gruppo di Studio transizione nelle patologie respiratorie croniche dell’infanzia\n\nCentri di riferimento Nazionali di Pneumologia Pediatrica e dell’adulto\nSocietà scientifiche (SIP-FIMP-FMMG-AIPO-SIP) Associazioni dei pazienti con patologie respiratorie croniche\n\nArticolazione delle attività del GdS\nIl gruppo di studio\, nei tre anni di attività\, potrà articolare la sua attività ( Work packages) in diverse fasi che prevedono: \nGennaio 2023-Dicembre 2023:\n\nCostituzione del gruppo.\nRaccolta adesione dei centri e dei ricercatori partecipanti.\nIndividuazione società scientifiche (SIP-FIMP-AIPO-SIMRI-FIMG-ecc) ed eventuali associazioni pazienti\, con cui collaborare.\nVerifica di eventuali esperienze già sperimentate e realizzate.\nRaccolta ed analisi della letteratura nazionale ed internazionale sul tema della transizione nel campo della malattie respiratorie croniche.\nRaccolta dati per la quantificazione della problematica attraverso una survey da realizzare con i centri aderenti e creazione data base.\nEventuale pubblicazione preliminare dei dati raccolti.\n\nGennaio 2024-Dicembre 2024: Completamento WP 5-6-7\n\nRealizzazione di incontri tematici in presenza o webinar con il coinvolgimento di società scientifiche\, enti ed istituzioni\, associazioni dei pazienti.\nRealizzazione di eventi formativi locali da parte dei centri aderenti 10)-Iniziale definizioni di protocolli e percorsi condivisi.\n\nGennaio 2025-Dicembre 2025: Completamento WP 6-7.\n\nStesura definitiva di protocolli e percorsi condivisi sulla transizione delle patologie respiratorie croniche 12)-Iniziative di formazione e divulgazione\nPubblicazione dei dati\n\nPer maggiori informazioni\, scrivi a: segreteria@simri.it
URL:https://www.simri.it/evento/la-transizione-nelle-patologie-respiratorie-croniche-dellinfanzia/
CATEGORIES:Gruppi di Studio,NoIndex
END:VEVENT
BEGIN:VEVENT
DTSTART;TZID=Europe/Helsinki:20251205T130000
DTEND;TZID=Europe/Helsinki:20261206T190000
DTSTAMP:20260420T123424
CREATED:20250321T115104Z
LAST-MODIFIED:20250614T095633Z
UID:11637-1764939600-1796583600@www.simri.it
SUMMARY:Le sfide della pediatria a... Roma\, 5-6 dicembre2025
DESCRIPTION:Il 5-6 dicembre 2025 si terrà a Roma l’evento Sfide della Pediatria a… \nECM\nL’evento verrà inserito nel programma nazionale di Educazione Continua in Medicina (ECM) per la professione di Medico Chirurgo con le seguenti discipline: Allergologia e Immunologia Clinica\, Gastroenterologia\, Malattie dell’apparato Respiratorio\, Malattie Metaboliche e Diabetologia\, Medicina Generale (Medici di Famiglia)\, Neonatologia\, Otorinolaringoiatria\, Pediatria\, Pediatria (Pediatri di Libera Scelta). \nREGISTRAZIONE\nPer maggiori informazioni visita il SITO WEB
URL:https://www.simri.it/evento/sifde-della-pediatria-roma-2025/
LOCATION:Roma
CATEGORIES:Altri Eventi,Eventi ECM
ATTACH;FMTTYPE=image/jpeg:https://www.simri.it/wp-content/uploads/2025/03/c25-025_Post400x350.jpg
END:VEVENT
BEGIN:VEVENT
DTSTART;TZID=Europe/Helsinki:20260414T073000
DTEND;TZID=Europe/Helsinki:20260514T083000
DTSTAMP:20260420T123424
CREATED:20250731T091349Z
LAST-MODIFIED:20260330T090817Z
UID:13694-1776151800-1778747400@www.simri.it
SUMMARY:Webinar SIMRI Clinical Cold Cases 2026
DESCRIPTION:A seguito del grande successo riscontrato nelle precedenti edizioni\, la Società Italiana per le Malattie Respiratorie Infantili è lieta di annunciare la prosecuzione del progetto “Clinical Cold Cases” per tutto il il 2026. \nIl progetto prevede una serie di webinar a cadenza mensile\, incentrati sulla presentazione e discussione di casi clinici complessi e di diﬃcile inquadramento diagnostico e/o terapeutico\, proposti dai principali Centri italiani di Pneumologia Pediatrica.\nL’iniziativa\, che ha già riscosso ampio consenso tra i professionisti del settore\, nasce con l’obiettivo di favorire il confronto scientiﬁco tra esperti\, stimolare il pensiero critico e promuovere la condivisione delle esperienze cliniche maturate nei diversi contesti assistenziali. \nI webinar “Clinical Cold Cases” rappresentano un’importante occasione di formazione e aggiornamento scientiﬁco per tutti i professionisti del settore\, contribuendo attivamente a raﬀorzare una rete nazionale solida e dinamica tra i Centri di Pneumologia Pediatrica di terzo livello. \nPROSSIMO INCONTRO: 14 APRILE 2026 ORE 7:30-8:30\nPer iscriverti clicca QUI\nPer visionare tutti i Webinar Clinical Cold Case Series clicca QUI
URL:https://www.simri.it/evento/clinical-cold-cases-2026/
CATEGORIES:In Evidenza,Webinar
ATTACH;FMTTYPE=image/jpeg:https://www.simri.it/wp-content/uploads/2025/07/C26_400x350-APRIL-.jpg
END:VEVENT
END:VCALENDAR