BEGIN:VCALENDAR
VERSION:2.0
PRODID:-//SIMRI - ECPv6.11.2//NONSGML v1.0//EN
CALSCALE:GREGORIAN
METHOD:PUBLISH
X-ORIGINAL-URL:https://www.simri.it
X-WR-CALDESC:Eventi per SIMRI
REFRESH-INTERVAL;VALUE=DURATION:PT1H
X-Robots-Tag:noindex
X-PUBLISHED-TTL:PT1H
BEGIN:VTIMEZONE
TZID:Europe/Helsinki
BEGIN:DAYLIGHT
TZOFFSETFROM:+0200
TZOFFSETTO:+0300
TZNAME:EEST
DTSTART:20240331T010000
END:DAYLIGHT
BEGIN:STANDARD
TZOFFSETFROM:+0300
TZOFFSETTO:+0200
TZNAME:EET
DTSTART:20241027T010000
END:STANDARD
END:VTIMEZONE
BEGIN:VEVENT
DTSTART;VALUE=DATE:20240823
DTEND;VALUE=DATE:20240824
DTSTAMP:20260423T005043
CREATED:20240730T152511Z
LAST-MODIFIED:20241025T205419Z
UID:5190-1724371200-1724457599@www.simri.it
SUMMARY:VIPPN Clinical Case Series Webinar - ATS/SIMRI Collaboration" Interest Group ATS Assembly on Pediatrics (PEDS)
DESCRIPTION:Nell’ambito della consolidata collaborazione tra SIMRI e ATS (“ATS/SIMRI Collaboration” Working Group\, chair Dr. Enrico Lombardi)\, è stata organizzata una sessione Webinar all’interno della VIPPN (Virtual International Pediatric Pulmonary Network) Clinical Case Series dedicata ai casi clinici della SIMRI. \nColoro che volessero partecipare sono invitati ad inviare un breve abstract in inglese (max 200 parole) all’indirizzo segreteria@simri.it entro il 23 agosto p.v.  \nAl momento della presentazione dell’abstract è importante indicare: \n– il nome del socio SIMRI che presenterà il caso clinico (età inferiore o uguale ai 40 anni); \n– il socio SIMRI che discuterà il caso clinico (età inferiore o uguale ai 45 anni). \nI casi clinici selezionati verranno presentati dagli Junior Members SIMRI durante il webinar che si svolgerà giovedì 3 ottobre 2024 dalle 19:00 alle 20:00.
URL:https://www.simri.it/evento/vippn-clinical-case-series-webinar-ats-simri-collaboration-interest-group-ats-assembly-on-pediatrics-peds/
CATEGORIES:Bandi Attivi,In Evidenza,NoIndex
ATTACH;FMTTYPE=image/jpeg:https://www.simri.it/wp-content/uploads/2024/07/Simri_CasoClinico_600x200.jpg
END:VEVENT
BEGIN:VEVENT
DTSTART;TZID=Europe/Helsinki:20240826T080000
DTEND;TZID=Europe/Helsinki:20240826T233000
DTSTAMP:20260423T005043
CREATED:20240819T154414Z
LAST-MODIFIED:20241025T205408Z
UID:5708-1724659200-1724715000@www.simri.it
SUMMARY:Bando di concorso per l'assegnazione di Nr. 5 contributi formativi SIMRI per la partecipazione al CORSO TEORICO PRATICO “ECOGRAFIA TORACICA E POLMONARE POINT OF CARE (POCUS)” Roma 8-9 novembre 2024
DESCRIPTION:Requisiti per partecipare\n• Età inferiore ai 40 anni al momento della presentazione della domanda ed in regola con i pagamenti delle quote associative all’anno in corso;\n• Possesso di un curriculum vitae che testimoni l’interesse e la specifica attività nel campo della pneumologia pediatrica\, corredato di eventuali pubblicazioni fatte. \nValutazione delle domande\nA parità di punteggio e di attività svolte per la Società\, avranno priorità in graduatoria i candidati con età più giovane e che\, cronologicamente\, abbiano presentato prima la domanda di partecipazione al bando (farà fede la data della e-mail).\nColoro che vorranno partecipare al bando dovranno inviare la domanda entro il 26 agosto 2024 all’indirizzo mail segreteria@simri.it. \nN.B. Si precisa che i vincitori del presente bando non potranno fare domanda per i contributi formativi messi a disposizione da SIMRI per i successivi corsi\, consultabili nella sezione eventi. \nPer scaricare il Bando clicca QUI \nPer scaricare il programma preliminare del corso clicca QUI
URL:https://www.simri.it/evento/bando-di-concorso-per-lassegnazione-di-nr-5-contributi-formativi-simri-per-la-partecipazione-al-corso-teorico-pratico-ecografia-toracica-e-polmonare-point-of-care-pocus-roma-8-9/
CATEGORIES:Bandi Attivi,NoIndex
ATTACH;FMTTYPE=image/jpeg:https://www.simri.it/wp-content/uploads/2024/08/C24-87_400x350-Roma.jpg
END:VEVENT
END:VCALENDAR