BEGIN:VCALENDAR
VERSION:2.0
PRODID:-//SIMRI - ECPv6.11.2//NONSGML v1.0//EN
CALSCALE:GREGORIAN
METHOD:PUBLISH
X-WR-CALNAME:SIMRI
X-ORIGINAL-URL:https://www.simri.it
X-WR-CALDESC:Eventi per SIMRI
REFRESH-INTERVAL;VALUE=DURATION:PT1H
X-Robots-Tag:noindex
X-PUBLISHED-TTL:PT1H
BEGIN:VTIMEZONE
TZID:Europe/Helsinki
BEGIN:DAYLIGHT
TZOFFSETFROM:+0200
TZOFFSETTO:+0300
TZNAME:EEST
DTSTART:20250330T010000
END:DAYLIGHT
BEGIN:STANDARD
TZOFFSETFROM:+0300
TZOFFSETTO:+0200
TZNAME:EET
DTSTART:20251026T010000
END:STANDARD
END:VTIMEZONE
BEGIN:VEVENT
DTSTART;VALUE=DATE:20250211
DTEND;VALUE=DATE:20250212
DTSTAMP:20260422T142048
CREATED:20250127T090552Z
LAST-MODIFIED:20250127T095347Z
UID:9029-1739232000-1739318399@www.simri.it
SUMMARY:Bursary applications open for ERS academies of adult and paediatric respiratory medicine
DESCRIPTION:L’European Respiratory Society (ERS) offre ai soci ERS all’inizio della carriera l’opportunità di richiedere una borsa di studio che coprirà le spese di iscrizione alla prima parte (online) e alla seconda parte (Amsterdam) delle accademia ERS 2025. \nÈ possibile richiedere una borsa di studio per le seguenti accademie ERS: \n\nAcademy in adult respiratory medicine \nAcademy in paediatric respiratory medicine  \n\nLe accademie sono rivolte a tutti i professionisti del settore respiratorio che desiderano aggiornare le proprie conoscenze\, in particolare a coloro che si preparano agli esami HERMES per “adult and paediatric respiratory medicine”\, che si terranno l’11 ottobre 2025. \nLa prima parte di entrambe le accademie si svolgerà online dal 17 al 19 giugno 2025\, mentre la seconda parte avrà luogo ad Amsterdam\, nei Paesi Bassi\, il 27 settembre 2025. I partecipanti acquisiranno anche crediti ECM. \nPotrà essere assegnata una sola borsa di studio a persona per tutti i corsi ERS\, per anno solare. \nLa scadenza per la presentazione delle domande è l’11 febbraio 2025 (23:59 CET). \nPer ulteriori informazioni consultare il sito WEB
URL:https://www.simri.it/evento/ers-bursary-application/
CATEGORIES:Bandi Attivi,In Evidenza
ATTACH;FMTTYPE=image/jpeg:https://www.simri.it/wp-content/uploads/2024/08/60537362_s.jpg
END:VEVENT
BEGIN:VEVENT
DTSTART;TZID=Europe/Helsinki:20250228T000000
DTEND;TZID=Europe/Helsinki:20250228T000000
DTSTAMP:20260422T142048
CREATED:20250127T094835Z
LAST-MODIFIED:20250224T112831Z
UID:10051-1740700800-1740700800@www.simri.it
SUMMARY:Bando per la presentazione di contributi scientifici da inserire nel programma del XXIX Congresso Nazionale SIMRI Verona\, 11-13 settembre 2025
DESCRIPTION:Il Comitato Organizzatore del “XXIX CONGRESSO NAZIONALE SIMRI”\, che avrà luogo a Verona dall’ 11 al 13 settembre 2025\, visto il successo ottenuto nelle precedenti edizioni\, ha deciso di riconfermare nel programma le Sessioni dedicate ai Junior Member SIMRI (JMs): \n– Casi clinici indimenticabili\, in cui i JMs potranno presentare un caso clinico di particolare complessità\, affiancati da un Senior per stimolare la discussione;\n– La pneumologia pediatrica che guarda al futuro\, in cui i JMs potranno presentare i risultati parziali o finali delle attività scientifiche in corso di pubblicazione o pubblicate negli ultimi 3 anni\, in cui abbiano svolto un ruolo prevalente (ad es: principal investigator\, corresponding author). \nREQUISITI\nI criteri per l’ammissione sono:\n– essere Soci SIMRI\, in regola con le quote sociali 2025;\n– essere iscritti al Forum Junior Members SIMRI (per verificare la propria iscrizione al Forum JMs scrivere a segreteria@simri.it). \nI Soci SIMRI in possesso dei requisiti per l’ammissione potranno inviare la propria domanda di partecipazione al Bando\, esclusivamente a mezzo posta elettronica indirizzata a simri2025@centercongressi.com  con oggetto “Casi clinici indimenticabili” oppure “La pneumologia pediatrica che guarda al futuro”\, entro le ore 23:59 del 28 febbraio 2025 (faranno fede data e ora di spedizione). \nSi precisa\, che ogni candidato potrà partecipare solo ad una delle sessioni indicate presentando un solo contributo scientifico. \nPer maggiori informazioni scrivi a simri2025@centercongressi.com \nScarica il Bando_Sessione_per_Contributi_per Programma_2025
URL:https://www.simri.it/evento/bando-contributi-scientifici-congresso-simri-2025/
CATEGORIES:Bandi Attivi,In Evidenza
ATTACH;FMTTYPE=image/png:https://www.simri.it/wp-content/uploads/2024/10/formazione_simri.png
END:VEVENT
END:VCALENDAR