BEGIN:VCALENDAR
VERSION:2.0
PRODID:-//SIMRI - ECPv6.11.2//NONSGML v1.0//EN
CALSCALE:GREGORIAN
METHOD:PUBLISH
X-ORIGINAL-URL:https://www.simri.it
X-WR-CALDESC:Eventi per SIMRI
REFRESH-INTERVAL;VALUE=DURATION:PT1H
X-Robots-Tag:noindex
X-PUBLISHED-TTL:PT1H
BEGIN:VTIMEZONE
TZID:Europe/Helsinki
BEGIN:DAYLIGHT
TZOFFSETFROM:+0200
TZOFFSETTO:+0300
TZNAME:EEST
DTSTART:20250330T010000
END:DAYLIGHT
BEGIN:STANDARD
TZOFFSETFROM:+0300
TZOFFSETTO:+0200
TZNAME:EET
DTSTART:20251026T010000
END:STANDARD
END:VTIMEZONE
BEGIN:VEVENT
DTSTART;TZID=Europe/Helsinki:20251020T000000
DTEND;TZID=Europe/Helsinki:20251020T000000
DTSTAMP:20260421T233130
CREATED:20251013T084125Z
LAST-MODIFIED:20251018T134551Z
UID:14327-1760918400-1760918400@www.simri.it
SUMMARY:Bando di concorso per l'assegnazione di Nr. 2 contributi formativi SIMRI per la partecipazione al XIV Corso Teorico Pratico di Spirometria in età pediatrica (Livello Base) - Rovereto\, 6 dicembre 2025
DESCRIPTION:Requisiti per partecipare\n• Età inferiore ai 40 anni al momento della presentazione della domanda ed in regola con i pagamenti delle quote associative all’anno in corso;\n• Possesso di un curriculum vitae che testimoni l’interesse e la specifica attività nel campo della pneumologia pediatrica\, corredato di eventuali pubblicazioni fatte. \nValutazione delle domande\nA parità di punteggio e di attività svolte per la Società\, avranno priorità in graduatoria i candidati con età più giovane e che\, cronologicamente\, abbiano presentato prima la domanda di partecipazione al bando (farà fede la data della e-mail).\nColoro che vorranno partecipare al bando dovranno inviare la domanda entro il 20 ottobre 2025 all’indirizzo mail segreteria@simri.it. \nN.B. Si precisa che i vincitori del presente bando NON potranno presentare domanda per i contributi formativi messi a disposizione da SIMRI per i corsi successivi\, consultabili nella sezione Eventi.\nParimenti\, i vincitori di bandi già assegnati nel corso del 2025 non saranno ammessi a partecipare al presente bando. \nPer scaricare il Bando clicca QUI \nPer scaricare il programma preliminare del corso clicca QUI
URL:https://www.simri.it/evento/bando-spiro-rovereto-2025/
CATEGORIES:Bandi Attivi,NoIndex
ATTACH;FMTTYPE=image/jpeg:https://www.simri.it/wp-content/uploads/2024/11/postion-paper.jpg
END:VEVENT
BEGIN:VEVENT
DTSTART;TZID=Europe/Helsinki:20251027T000000
DTEND;TZID=Europe/Helsinki:20251027T000000
DTSTAMP:20260421T233130
CREATED:20251020T085755Z
LAST-MODIFIED:20251020T155139Z
UID:14357-1761523200-1761523200@www.simri.it
SUMMARY:Bando di concorso per l'assegnazione di Nr. 2 contributi formativi SIMRI per la partecipazione al corso “WINTER SCHOOL ACCADEMIA DI PNEUMOLOGIA PEDIATRICA” ACI CASTELLO (CT)\, 12-13 DICEMBRE 2025
DESCRIPTION:Requisiti per partecipare\n• Età inferiore ai 40 anni al momento della presentazione della domanda ed in regola con i pagamenti delle quote associative all’anno in corso;\n• Possesso di un curriculum vitae che testimoni l’interesse e la specifica attività nel campo della pneumologia pediatrica\, corredato di eventuali pubblicazioni fatte. \nValutazione delle domande\nA parità di punteggio e di attività svolte per la Società\, avranno priorità in graduatoria i candidati con età più giovane e che\, cronologicamente\, abbiano presentato prima la domanda di partecipazione al bando (farà fede la data della e-mail).\nColoro che vorranno partecipare al bando dovranno inviare la domanda entro il 27 ottobre 2025 all’indirizzo mail segreteria@simri.it. \nN.B. Si precisa che i vincitori di bandi già assegnati nel corso del 2025 non saranno ammessi a partecipare al presente bando. \nPer scaricare il Bando clicca QUI \nPer scaricare il programma preliminare del corso clicca QUI
URL:https://www.simri.it/evento/bando-winter-2025/
CATEGORIES:Bandi Attivi,In Evidenza,NoIndex
ATTACH;FMTTYPE=image/jpeg:https://www.simri.it/wp-content/uploads/2024/12/learning.jpg
END:VEVENT
END:VCALENDAR