BEGIN:VCALENDAR
VERSION:2.0
PRODID:-//SIMRI - ECPv6.11.2//NONSGML v1.0//EN
CALSCALE:GREGORIAN
METHOD:PUBLISH
X-WR-CALNAME:SIMRI
X-ORIGINAL-URL:https://www.simri.it
X-WR-CALDESC:Eventi per SIMRI
REFRESH-INTERVAL;VALUE=DURATION:PT1H
X-Robots-Tag:noindex
X-PUBLISHED-TTL:PT1H
BEGIN:VTIMEZONE
TZID:Europe/Helsinki
BEGIN:DAYLIGHT
TZOFFSETFROM:+0200
TZOFFSETTO:+0300
TZNAME:EEST
DTSTART:20260329T010000
END:DAYLIGHT
BEGIN:STANDARD
TZOFFSETFROM:+0300
TZOFFSETTO:+0200
TZNAME:EET
DTSTART:20261025T010000
END:STANDARD
END:VTIMEZONE
BEGIN:VEVENT
DTSTART;TZID=Europe/Helsinki:20260309T000000
DTEND;TZID=Europe/Helsinki:20260309T000000
DTSTAMP:20260421T153813
CREATED:20260303T152646Z
LAST-MODIFIED:20260303T153629Z
UID:15867-1773014400-1773014400@www.simri.it
SUMMARY:Bandi di concorso per l'assegnazione di contributi formativi SIMRI per la partecipazione al Corso teorico pratico La polisonnografia e i disturbi respiratori del sonno in età pediatrica - Livello Basic (Varese\, 13 maggio 2026) e Livello Advanced (Varese\, 14-15 maggio 2026)
DESCRIPTION:Sono istituiti nr. 2 contributi formativi\, messi a disposizione dalla SIMRI\, che copriranno la quota d’iscrizione al Corso Teorico-Pratico La polisonnografia ed i disturbi respiratori del sonno in età pediatrica Livello Basic (Varese\, 13 maggio 2026) e nr. 5 contributi formativi per il Livello Advanced (Varese\, 14-15 maggio 2026) \nRequisiti per partecipare\n• Età inferiore ai 40 anni al momento della presentazione della domanda ed in regola con i pagamenti delle quote associative all’anno in corso;\n• Possesso di un curriculum vitae che testimoni l’interesse e la specifica attività nel campo della pneumologia pediatrica\, corredato di eventuali pubblicazioni fatte. \nValutazione delle domande\nA parità di punteggio e di attività svolte per la Società\, avranno priorità in graduatoria i candidati con età più giovane\, che abbiano presentato prima la domanda di partecipazione al bando (farà fede la data della e-mail).\nColoro che vorranno partecipare al bando dovranno inviare la domanda entro il 9 marzo 2026 all’indirizzo mail segreteria@simri.it. \nN.B. Si precisa che i vincitori del presente bando NON potranno presentare domanda per i contributi formativi messi a disposizione da SIMRI per l’anno 2026\, consultabili nella sezione Ricerca e Formazione/Bandi attivi. \nPer scaricare il Bando di concorso del Corso LIVELLO BASIC clicca QUI \nPer scaricare il Bando di concorso del Corso LIVELLO ADVANCED clicca QUI \nPer consultare i programmi preliminari dei corsi clicca QUI
URL:https://www.simri.it/evento/bando-drs-2026/
CATEGORIES:Bandi Attivi,In Evidenza,NoIndex
ATTACH;FMTTYPE=image/png:https://www.simri.it/wp-content/uploads/2024/10/formazione_simri.png
END:VEVENT
BEGIN:VEVENT
DTSTART;TZID=Europe/Helsinki:20260326T000000
DTEND;TZID=Europe/Helsinki:20260326T000000
DTSTAMP:20260421T153813
CREATED:20260319T151325Z
LAST-MODIFIED:20260319T152022Z
UID:16004-1774483200-1774483200@www.simri.it
SUMMARY:Bando di concorso per l'assegnazione di Nr. 20 contributi formativi SIMRI per la partecipazione al 4° CONGRESSO INSPIRED INTERNATIONAL SOCIETY OF PEDIATRIC RESPIRATORY DISEASE - Bologna\, 25-28 giugno 2026
DESCRIPTION:Requisiti per partecipare\n• Età inferiore ai 40 anni al momento della presentazione della domanda ed in regola con i pagamenti delle quote associative all’anno in corso;\n• Possesso di un curriculum vitae che testimoni l’interesse e la specifica attività nel campo della pneumologia pediatrica\, corredato di eventuali pubblicazioni fatte. \nValutazione delle domande\nA parità di punteggio e di attività svolte per la Società\, avranno priorità in graduatoria i candidati con età più giovane\, che abbiano presentato prima la domanda di partecipazione al bando (farà fede la data della e-mail).\nColoro che vorranno partecipare al bando dovranno inviare la domanda entro il 26 marzo 2026 all’indirizzo mail segreteria@simri.it. \nN.B. Si precisa che i vincitori del presente bando NON potranno presentare domanda per i contributi formativi messi a disposizione da SIMRI per l’anno 2026\, consultabili nella sezione Ricerca e Formazione/Bandi attivi. \nPer scaricare il Bando clicca QUI \nPer maggiori informazioni sul congresso clicca QUI
URL:https://www.simri.it/evento/bando-inspired-2026/
CATEGORIES:Bandi Attivi,In Evidenza,NoIndex
ATTACH;FMTTYPE=image/png:https://www.simri.it/wp-content/uploads/2024/10/formazione_simri.png
END:VEVENT
END:VCALENDAR