BEGIN:VCALENDAR
VERSION:2.0
PRODID:-//SIMRI - ECPv6.11.2//NONSGML v1.0//EN
CALSCALE:GREGORIAN
METHOD:PUBLISH
X-WR-CALNAME:SIMRI
X-ORIGINAL-URL:https://www.simri.it
X-WR-CALDESC:Eventi per SIMRI
REFRESH-INTERVAL;VALUE=DURATION:PT1H
X-Robots-Tag:noindex
X-PUBLISHED-TTL:PT1H
BEGIN:VTIMEZONE
TZID:Europe/Helsinki
BEGIN:DAYLIGHT
TZOFFSETFROM:+0200
TZOFFSETTO:+0300
TZNAME:EEST
DTSTART:20250330T010000
END:DAYLIGHT
BEGIN:STANDARD
TZOFFSETFROM:+0300
TZOFFSETTO:+0200
TZNAME:EET
DTSTART:20251026T010000
END:STANDARD
END:VTIMEZONE
BEGIN:VTIMEZONE
TZID:UTC
BEGIN:STANDARD
TZOFFSETFROM:+0000
TZOFFSETTO:+0000
TZNAME:UTC
DTSTART:20240101T000000
END:STANDARD
END:VTIMEZONE
BEGIN:VEVENT
DTSTART;TZID=Europe/Helsinki:20250911T150000
DTEND;TZID=Europe/Helsinki:20250913T133000
DTSTAMP:20260423T143719
CREATED:20241020T112749Z
LAST-MODIFIED:20250418T104316Z
UID:7812-1757602800-1757770200@www.simri.it
SUMMARY:XXIX Congresso Nazionale SIMRI - Verona 11-13 Settembre 2025
DESCRIPTION:XXIX Congresso Nazionale SIMRI\nVerona\, 11-13 Settembre 2025\n\n\n\n\n\n\n\n\n\n\n\n\nIl XXIX Congresso Nazionale della Società Italiana per le Malattie Respiratorie Infantili (SIMRI) si pone come un evento imperdibile nel panorama della ricerca pneumologica pediatrica\, focalizzandosi su un’ampia gamma di argomenti\, riflettendo le più recenti evoluzioni nel campo della pneumologia pediatrica. \nTra le aree tematiche principali\, saranno inclusi: \n\nAsma Grave: Approfondimenti sui trattamenti innovativi\, la gestione dei pazienti e le ultime ricerche sull’asma grave nei bambini.\nDisturbi Respiratori del Sonno: Analisi dei progressi nel riconoscimento\, nella valutazione e nel trattamento dei disturbi respiratori del sonno in età pediatrica.\nDiscinesia Ciliare Primaria e Bronchiectasie non-FC: Aggiornamenti sulle tecniche diagnostiche e terapeutiche per queste patologie\, con un focus particolare sulle novità nella ricerca e nella clinica.\nFibrosi Cistica: Condivisione di studi\, trials e approcci innovativi nella gestione della fibrosi cistica.\nFunzionalità e Riabilitazione Respiratoria: Discussione sulle ultime tecniche di valutazione della funzionalità respiratoria e sui programmi di riabilitazione.\nInsufficienza Respiratoria e Ventilazione: Esplorazione delle nuove frontiere nella ventilazione assistita e nella cura dell’insufficienza respiratoria.\nLa Transizione: Focus sulla transizione dei giovani pazienti dal servizio pediatrico a quello per adulti\, con particolare attenzione alla continuità della cura.\nMalformazioni Polmonari: Analisi delle strategie diagnostiche e terapeutiche per le malformazioni polmonari congenite.\nPatologie Infettive Respiratorie e Malattie Rare: Discussione sulle ultime scoperte e sui trattamenti innovativi per le infezioni respiratorie e le malattie rare.\nTecnologie Digitali: L’impiego di soluzioni digitali avanzate nel monitoraggio\, nella diagnosi e nel trattamento delle malattie respiratorie pediatriche.\n\nCALL TO ABSTRACT!\nI contributi scientifici (studi clinici\,  casi clinici\, ricerca epidemiologica\, traslazionale\, di base) dovranno riguardare i seguenti argomenti: \n\nAsma grave\nDisturbi respiratori del sonno\nDiscinesia ciliare primaria e bronchiectasie non-FC\nFibrosi cistica\nFunzionalità e riabilitazione respiratoria\nInsufficienza respiratoria cronica e ventilazione a lungo termine\nLa transizione nelle patologie respiratorie croniche\nMalformazioni polmonari\nPatologie infettive respiratorie e malattie rare\nTecnologie digitali innovative per l’assistenza respiratoria pediatrica\n\nI contributi scientifici dovranno essere presentati entro il 30 aprile 2025. \nPer maggiori informazioni scrivi a simri2025@centercongressi.com \nScarica il Programma preliminare \nPer maggiori informazioni visita il sito del Congresso
URL:https://www.simri.it/evento/xxix-congresso-nazionale-simri-verona-2025/
LOCATION:Verona
CATEGORIES:Congresso SIMRI,Eventi ECM
ATTACH;FMTTYPE=image/jpeg:https://www.simri.it/wp-content/uploads/2024/11/congresso-2025.jpeg
END:VEVENT
BEGIN:VEVENT
DTSTART;VALUE=DATE:20250531
DTEND;VALUE=DATE:20250601
DTSTAMP:20260423T143720
CREATED:20250127T091542Z
LAST-MODIFIED:20250507T160437Z
UID:8873-1748649600-1748735999@www.simri.it
SUMMARY:LAST CALL TO ABSTRACT! XXIX Congresso Nazionale SIMRI Verona\, 11-13 settembre 2025
DESCRIPTION:Ultima chiamata per la presentazione di abstract!\nNon perdete l’occasione di contribuire al XXIX Congresso Nazionale SIMRI!\nSiamo alla ricerca di contributi scientifici (studi clinici\,  casi clinici\, ricerca epidemiologica\, traslazionale\, di base) sui seguenti argomenti: \n\nAsma grave\nDisturbi respiratori del sonno\nDiscinesia ciliare primaria e bronchiectasie non-FC\nFibrosi cistica\nFunzionalità e riabilitazione respiratoria\nInsufficienza respiratoria cronica e ventilazione a lungo termine\nLa transizione nelle patologie respiratorie croniche\nMalformazioni polmonari\nPatologie infettive respiratorie e malattie rare\nTecnologie digitali innovative per l’assistenza respiratoria pediatrica\n\nVerranno premiati 10 lavori\, i quali saranno presentati come comunicazioni orali e riceveranno un premio in denaro di € 500\,00 (cinquecento/00) al lordo delle ritenute di legge. Inoltre\, i vincitori avranno diritto all’iscrizione gratuita al congresso (il soggiorno alberghiero e l’iscrizione ai corsi precongressuali NON rientrano nel premio sopra descritto). \nLa deadline per presentare i contributi scientifici è stata posticipata al 31 maggio 2025 (non saranno previsti ulteriori posticipi per la presentazione degli abstract).\n  \nPer maggiori informazioni scrivi a simri2025@centercongressi.com \nScarica le Linee Guida per la presentazione di Contributi Scientifici \nPer saperne di più sul XXIX Congresso Nazionale SIMRI scarica il Programma preliminare
URL:https://www.simri.it/evento/xxix-congresso-nazionale-simri-call-to-abstract/
CATEGORIES:Bandi Attivi,Congresso SIMRI,In Evidenza
ATTACH;FMTTYPE=image/jpeg:https://www.simri.it/wp-content/uploads/2024/11/congresso-2025.jpeg
END:VEVENT
BEGIN:VEVENT
DTSTART;TZID=UTC:20241010T080000
DTEND;TZID=UTC:20241012T170000
DTSTAMP:20260423T143720
CREATED:20240411T120126Z
LAST-MODIFIED:20241003T084813Z
UID:1442-1728547200-1728752400@www.simri.it
SUMMARY:Torino XXVIII Congresso Nazionale SIMRI
DESCRIPTION:Torino\,10-12 ottobre 2024\nXXVIII Congresso Nazionale SIMRI\nIl respiro: scienza e terapia per la salute del bambino\n\n\n\n\n\n\n\n\n\n\n\n\nIl XXVIII Congresso Nazionale della Società Italiana per le Malattie Respiratorie Infantili (SIMRI) si pone come un evento imperdibile nel panorama della ricerca pneumologica pediatrica. Questo congresso rappresenta un’occasione unica per medici\, ricercatori\, specialisti e professionisti del settore di condividere progressi\, sfide e soluzioni innovative dedicate al trattamento delle malattie respiratorie nei bambini. \nTematiche di Spicco\nIl congresso si focalizzerà su un’ampia gamma di argomenti\, riflettendo le più recenti evoluzioni nel campo della pneumologia pediatrica. Tra le aree tematiche principali\, saranno inclusi: \n\nAsma Grave: Approfondimenti sui trattamenti innovativi\, la gestione dei pazienti e le ultime ricerche sull’asma grave nei bambini.\nDisturbi Respiratori del Sonno: Analisi dei progressi nel riconoscimento\, nella valutazione e nel trattamento dei disturbi respiratori del sonno in età pediatrica.\nDiscinesia Ciliare Primaria e Bronchiectasie non-FC: Aggiornamenti sulle tecniche diagnostiche e terapeutiche per queste patologie\, con un focus particolare sulle novità nella ricerca e nella clinica.\nFibrosi Cistica: Condivisione di studi\, trials e approcci innovativi nella gestione della fibrosi cistica.\nFunzionalità e Riabilitazione Respiratoria: Discussione sulle ultime tecniche di valutazione della funzionalità respiratoria e sui programmi di riabilitazione.\nInsufficienza Respiratoria e Ventilazione: Esplorazione delle nuove frontiere nella ventilazione assistita e nella cura dell’insufficienza respiratoria.\nLa Transizione: Focus sulla transizione dei giovani pazienti dal servizio pediatrico a quello per adulti\, con particolare attenzione alla continuità della cura.\nMalformazioni Polmonari: Analisi delle strategie diagnostiche e terapeutiche per le malformazioni polmonari congenite.\nPatologie Infettive Respiratorie e Malattie Rare: Discussione sulle ultime scoperte e sui trattamenti innovativi per le infezioni respiratorie e le malattie rare.\nTecnologie Digitali: L’impiego di soluzioni digitali avanzate nel monitoraggio\, nella diagnosi e nel trattamento delle malattie respiratorie pediatriche.\n\nECM CONGRESSO\nAll’evento accreditato nel programma nazionale di Educazione Continua in Medicina (ECM) sono stati assegnati 5\,1 crediti ECM per la professione di Medico chirurgo\, Fisioterapista\, Infermiere e Infermiere Pediatrico. \nECM CORSI PRECONGRESSUALI\nAi corsi precongressuali\, accreditati nel programma nazionale di Educazione Continua in Medicina (ECM) sono stati assegnati 2 crediti ECM per la professione di Medico chirurgo\, Fisioterapista\, Infermiere e Infermiere Pediatrico. \nCorso 1: Facciamo il punto su asma grave e funzionalità respiratoria\nCorso 2: La medicina pediatrica integrata\nCorso 3: Il paziente con insufﬁcienza respiratoria cronica: dall’età pediatrica all’età adulta\nCorso 4: Come gestire la polmonite complicata\nCorso 5: Viaggio nelle pneumopatie croniche: DCP\, FC e Bronchiectasie NON-FC \nPARTECIPAZIONE AI CORSI PRECONGRESSUALI E ALLE SESSIONI A NUMERO CHIUSO\n\nCORSI PRECONGRESSUALI (giovedì 10 ottobre 2024 – ore 12:15 – 15:00)\nMEET THE PROFESSOR (Venerdì 11 ottobre 2024 – ore 11.30 in lingua inglese)\nVENTILAZIONE NON INVASIVA IN PEDIATRIA: DALLA TEORIA ALLA PRATICA (Venerdì 11 ottobre 2024 – ore 17.30)\n\nLa partecipazione alle suddette sessioni è gratuita\, a numero chiuso ed è su prenotazione. Per registrarsi accedere con le proprie credenziali al sito del congresso cliccando QUI \nPRANZO CON L’ESPERTO\nLa partecipazione ai “Pranzo con l’esperto” è riservata esclusivamente agli iscritti al Congresso\, per un numero massimo di 30 partecipanti per ciascun corso.\nSTEP 1: Per partecipare sarà necessario effettuare il pagamento QUI \nSTEP2:  Selezionare il “Pranzo con l’esperto” di proprio interesse QUI \nSCARICA IL PROGRAMMA AVANZATOSIMRI_2024
URL:https://www.simri.it/evento/xxviii-congresso-nazionale-simri-torino/
LOCATION:Torino
CATEGORIES:Congresso SIMRI,In Evidenza
ATTACH;FMTTYPE=image/png:https://www.simri.it/wp-content/uploads/2024/04/congresso-nazionale-simri.png
ORGANIZER;CN="SIMRI Nazionale":MAILTO:simri2024@centercongressi.com
END:VEVENT
END:VCALENDAR