BEGIN:VCALENDAR
VERSION:2.0
PRODID:-//SIMRI - ECPv6.11.2//NONSGML v1.0//EN
CALSCALE:GREGORIAN
METHOD:PUBLISH
X-WR-CALNAME:SIMRI
X-ORIGINAL-URL:https://www.simri.it
X-WR-CALDESC:Eventi per SIMRI
REFRESH-INTERVAL;VALUE=DURATION:PT1H
X-Robots-Tag:noindex
X-PUBLISHED-TTL:PT1H
BEGIN:VTIMEZONE
TZID:UTC
BEGIN:STANDARD
TZOFFSETFROM:+0000
TZOFFSETTO:+0000
TZNAME:UTC
DTSTART:20240101T000000
END:STANDARD
END:VTIMEZONE
BEGIN:VEVENT
DTSTART;TZID=UTC:20241129T140000
DTEND;TZID=UTC:20241130T160000
DTSTAMP:20260422T155818
CREATED:20241128T130820Z
LAST-MODIFIED:20241128T141018Z
UID:2227-1732888800-1732982400@www.simri.it
SUMMARY:Firenze I Corso Teorico-Pratico di insufficienza respiratoria\, ossigenoterapia e utilizzo della CPAP in età pediatrica
DESCRIPTION:Il 29-30 novembre 2024 si terrà a Firenze il I Corso Teorico-Pratico di insufficienza respiratoria\, ossigenoterapia e utilizzo della CPAP in età pediatrica\n  \nL’ evento è stato inserito tra i programmi nazionali di Educazione Continua in Medicina (E.C.M.) con 10 crediti formativi per la professione di Infermiere\, Infermiere Pediatrico\, Fisioterapista\, Terapista della neuro e psicomotricità dell’età evolutiva e Medico Chirurgo con le seguenti specializzazioni: Allergologia ed Immunologia Clinica\, Malattie dell’Apparato Respiratorio\, Medicina generale\,  Pediatria\, Pediatria di Libera Scelta. \nPer maggiori informazioni scarica il programma preliminare \nPer iscriverti clicca QUI
URL:https://www.simri.it/evento/i-corso-teorico-pratico-di-insufficienza-respiratoria-ossigenoterapia-e-utilizzo-della-cpap-in-eta-pediatrica/
CATEGORIES:Corsi SIMRI,Eventi ECM,In Evidenza,NoIndex
ATTACH;FMTTYPE=image/jpeg:https://www.simri.it/wp-content/uploads/2024/05/Corso-Teorico-Pratico-di-insufficienza-respiratoria-ossigenoterapia-e-utilizzo-della-CPAP-in-eta-pediatrica.jpg
END:VEVENT
END:VCALENDAR