BEGIN:VCALENDAR
VERSION:2.0
PRODID:-//SIMRI - ECPv6.11.2//NONSGML v1.0//EN
CALSCALE:GREGORIAN
METHOD:PUBLISH
X-ORIGINAL-URL:https://www.simri.it
X-WR-CALDESC:Eventi per SIMRI
REFRESH-INTERVAL;VALUE=DURATION:PT1H
X-Robots-Tag:noindex
X-PUBLISHED-TTL:PT1H
BEGIN:VTIMEZONE
TZID:Europe/Helsinki
BEGIN:DAYLIGHT
TZOFFSETFROM:+0200
TZOFFSETTO:+0300
TZNAME:EEST
DTSTART:20240331T010000
END:DAYLIGHT
BEGIN:STANDARD
TZOFFSETFROM:+0300
TZOFFSETTO:+0200
TZNAME:EET
DTSTART:20241027T010000
END:STANDARD
END:VTIMEZONE
BEGIN:VEVENT
DTSTART;TZID=Europe/Helsinki:20241210T160000
DTEND;TZID=Europe/Helsinki:20241210T180000
DTSTAMP:20260422T160001
CREATED:20241125T132130Z
LAST-MODIFIED:20241128T144923Z
UID:8133-1733846400-1733853600@www.simri.it
SUMMARY:Webinar del Gruppo di Studio SIMRI DRS - FOCUS SUI DISTURBI DEL SONNO IN ETA' EVOLUTIVA - Martedì\, 10 dicembre 2024 ore 16.00-18.00
DESCRIPTION:WEBINAR DEL GRUPPO DI STUDIO SIMRI DISTURBI RESPIRATORI DEL SONNO IN ETA’ PEDIATRICA – FOCUS SUI DISTURBI DEL SONNO IN ETA’ EVOLUTIVA – Martedì\, 10 dicembre 2024 ore 16.00-18.00\nL’ evento è stato inserito tra i programmi nazionali di Educazione Continua in Medicina (E.C.M.) e prevede l’acquisizione di 3 crediti formativi per la professione di Infermiere\, Infermiere Pediatrico\, Fisioterapista e Medico Chirurgo con le seguenti specializzazioni: Allergologia e Immunologia Clinica\, Malattie dell’Apparato Respiratorio\, Pediatria\, Pediatria di Libera Scelta. \n\n\nPer iscriverti clicca QUI \nSCARICA IL PROGRAMMA
URL:https://www.simri.it/evento/webinar-focus-sui-disturbi-del-sonno-in-eta-evolutiva/
CATEGORIES:Corsi SIMRI,Eventi ECM,In Evidenza,NoIndex,Webinar
ATTACH;FMTTYPE=image/jpeg:https://www.simri.it/wp-content/uploads/2024/11/C24-121_400x350.jpg
END:VEVENT
END:VCALENDAR