BEGIN:VCALENDAR
VERSION:2.0
PRODID:-//SIMRI - ECPv6.11.2//NONSGML v1.0//EN
CALSCALE:GREGORIAN
METHOD:PUBLISH
X-WR-CALNAME:SIMRI
X-ORIGINAL-URL:https://www.simri.it
X-WR-CALDESC:Eventi per SIMRI
REFRESH-INTERVAL;VALUE=DURATION:PT1H
X-Robots-Tag:noindex
X-PUBLISHED-TTL:PT1H
BEGIN:VTIMEZONE
TZID:Europe/Helsinki
BEGIN:DAYLIGHT
TZOFFSETFROM:+0200
TZOFFSETTO:+0300
TZNAME:EEST
DTSTART:20250330T010000
END:DAYLIGHT
BEGIN:STANDARD
TZOFFSETFROM:+0300
TZOFFSETTO:+0200
TZNAME:EET
DTSTART:20251026T010000
END:STANDARD
END:VTIMEZONE
BEGIN:VEVENT
DTSTART;TZID=Europe/Helsinki:20250606T083000
DTEND;TZID=Europe/Helsinki:20250607T173000
DTSTAMP:20260422T060946
CREATED:20241121T154545Z
LAST-MODIFIED:20250404T102907Z
UID:10968-1749198600-1749317400@www.simri.it
SUMMARY:Corso Teorico-Pratico La polisonnografia ed i disturbi respiratori del sonno in età pediatrica - Livello Advanced
DESCRIPTION:Il 6-7 giugno 2025 si terrà a Varese il Corso Teorico-Pratico La polisonnografia ed i disturbi respiratori del sonno in età pediatrica – Livello Advanced. \nDESTINATARI DEL CORSO\nLa partecipazione al Corso è a numero chiuso e limitata a 60 partecipanti che hanno ottenuto la certificazione di “Esecutore certificato – Livello Base” sui test di polisonnografia e DRS.  \nECM\nL’ evento è stato inserito tra i programmi nazionali di Educazione Continua in Medicina (E.C.M.) con 16 crediti formativi per la professione di Infermiere\, Infermiere Pediatrico\, Fisioterapista\, Logopedista\, Tecnico di Neurofisiopatologia\, Odontoiatria e Medico Chirurgo con le seguenti specializzazioni: Audiologia-Foniatria\, Cardiologia\, Malattie dell’Apparato Respiratorio\, Medicina generale\, Neuropsichiatria\, Neurologia\, Odontoiatria\, Otorinolaringoiatria\, Pediatria\, Pediatria di Libera Scelta. \n\nPer maggiori informazioni e iscriverti clicca QUI \nScarica il PROGRAMMA PRELIMINARE
URL:https://www.simri.it/evento/corso-teorico-pratico-la-polisonnografia-ed-i-disturbi-respiratori-del-sonno-in-eta-pediatrica-advanced-2025/
LOCATION:Varese
CATEGORIES:Corsi SIMRI,Eventi ECM,In Evidenza,NoIndex
ATTACH;FMTTYPE=image/jpeg:https://www.simri.it/wp-content/uploads/2025/02/c25-038_Post400x350c.jpg
END:VEVENT
END:VCALENDAR