BEGIN:VCALENDAR
VERSION:2.0
PRODID:-//SIMRI - ECPv6.11.2//NONSGML v1.0//EN
CALSCALE:GREGORIAN
METHOD:PUBLISH
X-ORIGINAL-URL:https://www.simri.it
X-WR-CALDESC:Eventi per SIMRI
REFRESH-INTERVAL;VALUE=DURATION:PT1H
X-Robots-Tag:noindex
X-PUBLISHED-TTL:PT1H
BEGIN:VTIMEZONE
TZID:Europe/Helsinki
BEGIN:DAYLIGHT
TZOFFSETFROM:+0200
TZOFFSETTO:+0300
TZNAME:EEST
DTSTART:20250330T010000
END:DAYLIGHT
BEGIN:STANDARD
TZOFFSETFROM:+0300
TZOFFSETTO:+0200
TZNAME:EET
DTSTART:20251026T010000
END:STANDARD
END:VTIMEZONE
BEGIN:VEVENT
DTSTART;TZID=Europe/Helsinki:20251128T140000
DTEND;TZID=Europe/Helsinki:20251129T140000
DTSTAMP:20260421T215628
CREATED:20250430T155220Z
LAST-MODIFIED:20250930T143048Z
UID:12351-1764338400-1764424800@www.simri.it
SUMMARY:II Corso Teorico-Pratico di Ecografia Toracica e Polmonare - Point Of Care (POCUS)
DESCRIPTION:Il 28-29 novembre 2025 si terrà a Senigallia il II Corso Teorico-Pratico di Ecografia Toracica e Polmonare – Point Of Care (POCUS)\n\n\nL’ evento è stato inserito tra i programmi nazionali di Educazione Continua in Medicina (E.C.M.) con 10\,3 crediti formativi per la professione Medico Chirurgo con le seguenti specializzazioni: Allergologia ed Immunologia Clinica\, Malattie dell’Apparato Respiratorio\, Medicina Fisica e Riabilitazione\, Medicina Generale\, Medicina Interna\, Neonatologia\, Otorinolaringoiatria\, Pediatria\, Pediatria di Libera Scelta. \nLE ISCRIZIONI SONO CHIUSE \nPer maggiori informazioni: info@centercongressi.com \nScarica il Programma Preliminare
URL:https://www.simri.it/evento/corso-ecografia-toracica-senigallia-2025/
LOCATION:Senigallia
CATEGORIES:Corsi SIMRI,Eventi ECM,In Evidenza,NoIndex
ATTACH;FMTTYPE=image/jpeg:https://www.simri.it/wp-content/uploads/2025/04/C25-39_400x350-FB.jpg
END:VEVENT
END:VCALENDAR