BEGIN:VCALENDAR
VERSION:2.0
PRODID:-//SIMRI - ECPv6.11.2//NONSGML v1.0//EN
CALSCALE:GREGORIAN
METHOD:PUBLISH
X-ORIGINAL-URL:https://www.simri.it
X-WR-CALDESC:Eventi per SIMRI
REFRESH-INTERVAL;VALUE=DURATION:PT1H
X-Robots-Tag:noindex
X-PUBLISHED-TTL:PT1H
BEGIN:VTIMEZONE
TZID:Europe/Helsinki
BEGIN:DAYLIGHT
TZOFFSETFROM:+0200
TZOFFSETTO:+0300
TZNAME:EEST
DTSTART:20260329T010000
END:DAYLIGHT
BEGIN:STANDARD
TZOFFSETFROM:+0300
TZOFFSETTO:+0200
TZNAME:EET
DTSTART:20261025T010000
END:STANDARD
END:VTIMEZONE
BEGIN:VEVENT
DTSTART;TZID=Europe/Helsinki:20260513T083000
DTEND;TZID=Europe/Helsinki:20260515T160000
DTSTAMP:20260421T134457
CREATED:20260224T165005Z
LAST-MODIFIED:20260226T144750Z
UID:15779-1778661000-1778860800@www.simri.it
SUMMARY:Corso Teorico-Pratico La polisonnografia ed i disturbi respiratori del sonno in età pediatrica - Livello Basic (Varese\, 13 maggio 2026) e Livello Advanced (Varese\, 14-15 maggio 2026)
DESCRIPTION:Il 13-14-15 maggio 2026 si terrà a Varese il Corso Teorico-Pratico La polisonnografia ed i disturbi respiratori del sonno in età pediatrica – Livello Basic (13 maggio) e Livello Advanced (14-15 maggio). \nECM\nGli eventi verranno inseriti tra i programmi nazionali di Educazione Continua in Medicina (E.C.M.) per le professioni di Infermiere\, Infermiere Pediatrico\, Fisioterapista\, Logopedista\, Tecnico di Neurofisiopatologia\, Odontoiatria e Medico Chirurgo con le seguenti specializzazioni: Audiologia-Foniatria\, Cardiologia\, Malattie dell’Apparato Respiratorio\, Medicina generale\, Neuropsichiatria\, Neurologia\, Odontoiatria\, Otorinolaringoiatria\, Pediatria\, Pediatria di Libera Scelta. \n\nPer iscriverti e scaricare i programmi dei corsi visita il sito dei corsi disponibile QUI
URL:https://www.simri.it/evento/drs-2026/
LOCATION:Varese
CATEGORIES:Corsi SIMRI,Eventi ECM,In Evidenza,NoIndex
ATTACH;FMTTYPE=image/jpeg:https://www.simri.it/wp-content/uploads/2026/02/c26-025_Post400x350ab2.jpg
END:VEVENT
END:VCALENDAR