BEGIN:VCALENDAR
VERSION:2.0
PRODID:-//SIMRI - ECPv6.11.2//NONSGML v1.0//EN
CALSCALE:GREGORIAN
METHOD:PUBLISH
X-WR-CALNAME:SIMRI
X-ORIGINAL-URL:https://www.simri.it
X-WR-CALDESC:Eventi per SIMRI
REFRESH-INTERVAL;VALUE=DURATION:PT1H
X-Robots-Tag:noindex
X-PUBLISHED-TTL:PT1H
BEGIN:VTIMEZONE
TZID:UTC
BEGIN:STANDARD
TZOFFSETFROM:+0000
TZOFFSETTO:+0000
TZNAME:UTC
DTSTART:20240101T000000
END:STANDARD
END:VTIMEZONE
BEGIN:VEVENT
DTSTART;TZID=UTC:20240701T080000
DTEND;TZID=UTC:20240701T170000
DTSTAMP:20260420T171740
CREATED:20240628T054643Z
LAST-MODIFIED:20241025T205441Z
UID:3811-1719820800-1719853200@www.simri.it
SUMMARY:Seminario Giornata Mondiale delle Bronchiectasie
DESCRIPTION:Lunedì 1° Luglio 2024 ricorre la Giornata Mondiale delle Bronchiectasie (World Bronchiectasis Day) e il Gruppo di Studio “Educazione e Ricerca in DCP e Bronchiectasie non-FC”\, coordinato dal Dr. Nicola Ullmann\, aderisce all’iniziativa organizzando un seminario online\, in cui si discuterà dell’importanza della gestione dei pazienti con questa patologia. \n\n\nLa bronchiectasie non fibrosi cistica\, caratterizzate da una dilatazione patologica dei bronchi con perdita di elasticità\, sono un campo della pneumologia (pediatrica e del mondo dell’adulto) ancora per molti aspetti dibattuto ed al centro della ricerca clinica. Questa condizione può essere causata da diversi fattori\, tra i quali infezioni respiratorie ricorrenti\, malattie infiammatorie polmonari\, malformazioni delle vie aeree\, inalazioni croniche e patologie congenite. \nLa conoscenza e corretta gestione di questa condizione non può precludere una stretta collaborazione tra i pneumologi ospedalieri e i pediatri del territorio. \nAlla luce di ciò è importante continuare a diffondere le conoscenze su questa condizione con i più recenti aggiornamenti ed un confronto tra pneumologi specialisti e pediatri del territorio è fondamentale per arrivare a diagnosi precoci e trattamenti terapeutici adeguati per migliorare la qualità di vita dei pazienti. \nSegui il Link QUI per l’Iscrizione:
URL:https://www.simri.it/evento/seminario-giornata-mondiale-delle-bronchiectasie/
CATEGORIES:NoIndex,Seminari di Ricerca
ATTACH;FMTTYPE=image/jpeg:https://www.simri.it/wp-content/uploads/2024/06/seminario-brochiestasie.jpg
END:VEVENT
END:VCALENDAR