BEGIN:VCALENDAR
VERSION:2.0
PRODID:-//SIMRI - ECPv6.11.2//NONSGML v1.0//EN
CALSCALE:GREGORIAN
METHOD:PUBLISH
X-WR-CALNAME:SIMRI
X-ORIGINAL-URL:https://www.simri.it
X-WR-CALDESC:Eventi per SIMRI
REFRESH-INTERVAL;VALUE=DURATION:PT1H
X-Robots-Tag:noindex
X-PUBLISHED-TTL:PT1H
BEGIN:VTIMEZONE
TZID:Europe/Helsinki
BEGIN:DAYLIGHT
TZOFFSETFROM:+0200
TZOFFSETTO:+0300
TZNAME:EEST
DTSTART:20250330T010000
END:DAYLIGHT
BEGIN:STANDARD
TZOFFSETFROM:+0300
TZOFFSETTO:+0200
TZNAME:EET
DTSTART:20251026T010000
END:STANDARD
END:VTIMEZONE
BEGIN:VEVENT
DTSTART;TZID=Europe/Helsinki:20250218T160000
DTEND;TZID=Europe/Helsinki:20250218T183000
DTSTAMP:20260421T132723
CREATED:20250117T151508Z
LAST-MODIFIED:20250224T113115Z
UID:10596-1739894400-1739903400@www.simri.it
SUMMARY:2° Webinar Progetto GINA Italia - 18 febbraio 2025
DESCRIPTION:Martedì 18 febbraio 2025\, dalle ore 16.00 alle 18.30\, si terrà il 2° Webinar GINA Italia\nIl webinar si propone quindi di alimentare la condivisione e la divulgazione sia tra i componenti del gruppo GINA Italia che tra la comunità scientifica italiana\, dei principali aspetti relativi alla diagnosi e valutazione dell’asma\, la terapia dell’asma nell’adulto/adolescente e bambino\, l’educazione del paziente e la prevenzione della malattia. \n\n\nPer iscriverti e scaricare il programma CLICCA QUI \n 
URL:https://www.simri.it/evento/progetto-gina-italia-2025/
CATEGORIES:Altri Eventi,In Evidenza,NoIndex,Webinar
ATTACH;FMTTYPE=image/png:https://www.simri.it/wp-content/uploads/2024/10/gina.png
END:VEVENT
BEGIN:VEVENT
DTSTART;TZID=Europe/Helsinki:20250218T173000
DTEND;TZID=Europe/Helsinki:20250218T183000
DTSTAMP:20260421T132723
CREATED:20250117T151003Z
LAST-MODIFIED:20250224T113037Z
UID:10752-1739899800-1739903400@www.simri.it
SUMMARY:Discussione congiunta di casi clinici ad interesse chirurgico e pneumologico - 18 febbraio 2025
DESCRIPTION:Nell’ambito della collaborazione Forum Jms SIMRI e Società Italiana di Chirurgia Pediatrica\, martedì 18 febbraio 2025 dalle ore 17.30 alle 18.45 si terrà il I incontro Discussione congiunta di casi clinici ad interesse chirurgico e pneumologico \n\n\nL’iscrizione è gratuita. Per maggiori informazioni e registrarti agli incontri scarica la Locandina dell’evento
URL:https://www.simri.it/evento/webinar-simri-jms-sicp/
CATEGORIES:In Evidenza,Webinar
ATTACH;FMTTYPE=image/jpeg:https://www.simri.it/wp-content/uploads/2025/02/59363679_l-scaled.jpg
END:VEVENT
BEGIN:VEVENT
DTSTART;TZID=Europe/Helsinki:20250226T160000
DTEND;TZID=Europe/Helsinki:20250226T173000
DTSTAMP:20260421T132723
CREATED:20250117T151059Z
LAST-MODIFIED:20250224T112910Z
UID:9947-1740585600-1740591000@www.simri.it
SUMMARY:Webinar SIMRI Le malattie polmonari rare in età evolutiva - 26 febbraio 2025
DESCRIPTION:Per il ciclo di Webinar SIMRI\, il 26 febbraio 2025 dalle ore 16.00 alle 17.30\, il Gruppo di Studio “Patologie Infettive Respiratorie e Malattie Rare”\, in occasione del RARE DISEASE DAY\, organizza il Webinar “Le malattie polmonari rare in età evolutiva”.\nL’ evento è stato inserito tra i programmi nazionali di Educazione Continua in Medicina (E.C.M.) con 1\,5 crediti formativi per la professione di Infermiere\, Infermiere Pediatrico\, Fisioterapista e Medico Chirurgo con le seguenti specializzazioni: Allergologia e Immunologia Clinica\, Malattie dell’Apparato Respiratorio\, Pediatria\, Pediatria di Libera Scelta. \n\n\nPer iscriverti clicca QUI \nSCARICA IL PROGRAMMA \n 
URL:https://www.simri.it/evento/webinar-malattie-polmonari-rare-2025/
CATEGORIES:Eventi ECM,In Evidenza,NoIndex,Webinar
ATTACH;FMTTYPE=image/jpeg:https://www.simri.it/wp-content/uploads/2025/01/C25-045-Post400x350.jpg
END:VEVENT
END:VCALENDAR