BEGIN:VCALENDAR
VERSION:2.0
PRODID:-//SIMRI - ECPv6.11.2//NONSGML v1.0//EN
CALSCALE:GREGORIAN
METHOD:PUBLISH
X-WR-CALNAME:SIMRI
X-ORIGINAL-URL:https://www.simri.it
X-WR-CALDESC:Eventi per SIMRI
REFRESH-INTERVAL;VALUE=DURATION:PT1H
X-Robots-Tag:noindex
X-PUBLISHED-TTL:PT1H
BEGIN:VTIMEZONE
TZID:Europe/Helsinki
BEGIN:DAYLIGHT
TZOFFSETFROM:+0200
TZOFFSETTO:+0300
TZNAME:EEST
DTSTART:20250330T010000
END:DAYLIGHT
BEGIN:STANDARD
TZOFFSETFROM:+0300
TZOFFSETTO:+0200
TZNAME:EET
DTSTART:20251026T010000
END:STANDARD
END:VTIMEZONE
BEGIN:VEVENT
DTSTART;TZID=Europe/Helsinki:20250408T160000
DTEND;TZID=Europe/Helsinki:20250408T180000
DTSTAMP:20260421T101221
CREATED:20250127T090549Z
LAST-MODIFIED:20250319T095631Z
UID:11537-1744128000-1744135200@www.simri.it
SUMMARY:Webinar SIMRI Il paziente con insufficienza respiratoria cronica: dall'età pediatrica all'età adulta - Martedì 8 aprile 2025\, ore 16:00-18:00
DESCRIPTION:Per il ciclo di Webinar SIMRI\, martedì 8 aprile 2025 dalle ore 16.00 alle 18.00\, i Gruppi di Studio IRV&VLT e La transizione delle patologie respiratorie organizzano il Webinar “Il paziente con insufficienza respiratoria cronica: dall’età pediatrica all’età adulta”.\nL’ evento è stato inserito tra i programmi nazionali di Educazione Continua in Medicina (E.C.M.) con 3 crediti formativi per la professione di Infermiere\, Infermiere Pediatrico\, Fisioterapista e Medico Chirurgo con le seguenti specializzazioni: Allergologia e Immunologia Clinica\, Malattie dell’Apparato Respiratorio\, Pediatria\, Pediatria di Libera Scelta. \n\n\nPer iscriverti clicca QUI \nSCARICA IL PROGRAMMA
URL:https://www.simri.it/evento/webinar-insufficienza-respiratoria-cronica-aprile-2025/
CATEGORIES:Eventi ECM,In Evidenza,NoIndex,Webinar
ATTACH;FMTTYPE=image/jpeg:https://www.simri.it/wp-content/uploads/2025/03/C25-49_400x350.jpg
END:VEVENT
BEGIN:VEVENT
DTSTART;TZID=Europe/Helsinki:20250415T170000
DTEND;TZID=Europe/Helsinki:20250415T183000
DTSTAMP:20260421T101221
CREATED:20250127T090055Z
LAST-MODIFIED:20250414T155525Z
UID:11334-1744736400-1744741800@www.simri.it
SUMMARY:Webinar congiunto Forum JMs-ONSP - Ventilazione non invasiva: dalla gestione in pronto soccorso alle indicazioni terapeutiche
DESCRIPTION:Nell’ambito della collaborazione Forum Jms SIMRI e Osservatorio Nazionale Specializzandi Pediatria\, martedì 15 aprile 2025 dalle ore 17.00 alle 18.30 si terrà il Webinar Ventilazione non invasiva: dalla gestione in pronto soccorso alle indicazioni terapeutiche. \nDi seguito il programma del Webinar: \n17.00 Introduzione al Webinar – Antonio Corsello\, Stefania La Grutta\, Valentina Ferraro\, Federica Porcaro\n17.05 Approccio all’insufficienza respiratoria – Sergio Ghirardo\n17.30 Ossigenoterapia a basso e alto flusso – Martino Pavone\n17.55 CPAP: indicazioni e modalità di erogazione – Alessandro Amaddeo\n18.20 Discussione e chiusura dei lavori\n\n\n\nPer collegarti al webinar clicca QUI
URL:https://www.simri.it/evento/webinar-simri-jms-onsp/
CATEGORIES:In Evidenza,Webinar
ATTACH;FMTTYPE=image/jpeg:https://www.simri.it/wp-content/uploads/2025/03/WhatsApp-Image-2025-03-07-at-00.58.33-1.jpeg
END:VEVENT
BEGIN:VEVENT
DTSTART;TZID=Europe/Helsinki:20250416T170000
DTEND;TZID=Europe/Helsinki:20250416T183000
DTSTAMP:20260421T101221
CREATED:20250325T152434Z
LAST-MODIFIED:20250325T152434Z
UID:11777-1744822800-1744828200@www.simri.it
SUMMARY:Webinar SIMRI Patologie delle vie aeree centrali da malformazioni vascolari - Mercoledì\, 16 aprile 2025
DESCRIPTION:Per il ciclo di Webinar SIMRI\, il 16 aprile 2025 dalle ore 17.00 alle 18.30\, il Gruppo di Studio “Malformazioni Polmonari” organizza il Webinar “Patologie delle vie aeree centrali da malformazioni vascolari”.\nL’ evento è stato inserito tra i programmi nazionali di Educazione Continua in Medicina (E.C.M.) con 1\,5 crediti formativi per la professione di Infermiere\, Infermiere Pediatrico\, Fisioterapista e Medico Chirurgo con le seguenti specializzazioni: Allergologia e Immunologia Clinica\, Malattie dell’Apparato Respiratorio\, Pediatria\, Pediatria di Libera Scelta. \n\n\nPer iscriverti clicca QUI \nSCARICA IL PROGRAMMA
URL:https://www.simri.it/evento/webinar-malformazioni-polmonari-2025/
CATEGORIES:Eventi ECM,In Evidenza,NoIndex,Webinar
ATTACH;FMTTYPE=image/jpeg:https://www.simri.it/wp-content/uploads/2025/03/C25-50_400x350.jpg
END:VEVENT
END:VCALENDAR