BEGIN:VCALENDAR
VERSION:2.0
PRODID:-//SIMRI - ECPv6.11.2//NONSGML v1.0//EN
CALSCALE:GREGORIAN
METHOD:PUBLISH
X-ORIGINAL-URL:https://www.simri.it
X-WR-CALDESC:Eventi per SIMRI
REFRESH-INTERVAL;VALUE=DURATION:PT1H
X-Robots-Tag:noindex
X-PUBLISHED-TTL:PT1H
BEGIN:VTIMEZONE
TZID:Europe/Helsinki
BEGIN:DAYLIGHT
TZOFFSETFROM:+0200
TZOFFSETTO:+0300
TZNAME:EEST
DTSTART:20250330T010000
END:DAYLIGHT
BEGIN:STANDARD
TZOFFSETFROM:+0300
TZOFFSETTO:+0200
TZNAME:EET
DTSTART:20251026T010000
END:STANDARD
END:VTIMEZONE
BEGIN:VEVENT
DTSTART;TZID=Europe/Helsinki:20250506T163000
DTEND;TZID=Europe/Helsinki:20250506T170000
DTSTAMP:20260421T083328
CREATED:20250325T153547Z
LAST-MODIFIED:20250506T104401Z
UID:11782-1746549000-1746550800@www.simri.it
SUMMARY:Webinar SIMRI I disturbi respiratori del sonno nelle malattie genetiche
DESCRIPTION:Per il ciclo di Webinar SIMRI\, il 6 maggio 2025 dalle ore 16.30 alle 18.00\, il Gruppo di Studio “Disturbi Respiratori del Sonno” organizza il Webinar “I disturbi respiratori del sonno nelle malattie genetiche”.\nL’ evento è stato inserito tra i programmi nazionali di Educazione Continua in Medicina (E.C.M.) con 1\,5 crediti formativi per la professione di Infermiere\, Infermiere Pediatrico\, Fisioterapista e Medico Chirurgo con le seguenti specializzazioni: Allergologia e Immunologia Clinica\, Malattie dell’Apparato Respiratorio\, Pediatria\, Pediatria di Libera Scelta. \n\n\nPer iscriverti clicca QUI \nSCARICA IL PROGRAMMA
URL:https://www.simri.it/evento/webinar-drs-maggio-2025-2/
CATEGORIES:Eventi ECM,In Evidenza,NoIndex,Webinar
ATTACH;FMTTYPE=image/jpeg:https://www.simri.it/wp-content/uploads/2025/03/C25-51_400x350-1.jpg
END:VEVENT
BEGIN:VEVENT
DTSTART;TZID=Europe/Helsinki:20250526T180000
DTEND;TZID=Europe/Helsinki:20250526T193000
DTSTAMP:20260421T083328
CREATED:20250506T103734Z
LAST-MODIFIED:20250506T104152Z
UID:12476-1748282400-1748287800@www.simri.it
SUMMARY:Joint Webinar Albania-Italia Sharing experience together
DESCRIPTION:Lunedì 26 maggio 2025 dalle ore 18:00 alle 19:15 si terrà il secondo incontro del Joint Webinar Albania-Italia Sharing experience together dal titolo Respiratory Tract Infections. \nUnisciti a noi per un evento esclusivo in cui esperti provenienti dall’Albania e dall’Italia si confronteranno sul tema delle infezioni del tratto respiratorio. \nIn un mondo sempre più globale\, condividere esperienze e punti di vista diversi è cruciale per migliorare le pratiche mediche e le soluzioni terapeutiche. Questo webinar offrirà una panoramica completa di approcci differenti\, mettendo in luce best practices e innovazioni nel trattamento dell’asma\, con l’obiettivo di creare un dialogo costruttivo e arricchente tra professionisti di due realtà sanitarie diverse. \nPer saperne di più scarica la Locandina dell’evento e Registrati!
URL:https://www.simri.it/evento/webinar-joint-albania-italia-maggio/
CATEGORIES:In Evidenza,Webinar
ATTACH;FMTTYPE=image/png:https://www.simri.it/wp-content/uploads/2025/05/immagine-sito_.png
END:VEVENT
BEGIN:VEVENT
DTSTART;TZID=Europe/Helsinki:20250527T170000
DTEND;TZID=Europe/Helsinki:20250527T183000
DTSTAMP:20260421T083328
CREATED:20250430T160620Z
LAST-MODIFIED:20250430T160620Z
UID:12364-1748365200-1748370600@www.simri.it
SUMMARY:Webinar SIMRI La terapia dell'asma grave pediatrica
DESCRIPTION:Per il ciclo di Webinar SIMRI\, il 27 maggio 2025 dalle ore 17.00 alle 18.30\, il Gruppo di Studio “Asma Grave” organizza il Webinar “La terapia dell’asma grave pediatrica”.\nL’ evento è stato inserito tra i programmi nazionali di Educazione Continua in Medicina (E.C.M.) con 1\,5 crediti formativi per la professione di Infermiere\, Infermiere Pediatrico\, Fisioterapista e Medico Chirurgo con le seguenti specializzazioni: Allergologia e Immunologia Clinica\, Malattie dell’Apparato Respiratorio\, Pediatria\, Pediatria di Libera Scelta. \n\n\nPer iscriverti clicca QUI \nSCARICA IL PROGRAMMA
URL:https://www.simri.it/evento/webinar-terapia-asma-2025/
CATEGORIES:Eventi ECM,In Evidenza,NoIndex,Webinar
ATTACH;FMTTYPE=image/jpeg:https://www.simri.it/wp-content/uploads/2025/04/C25-52_400x350.jpg
END:VEVENT
BEGIN:VEVENT
DTSTART;TZID=Europe/Helsinki:20250530T160000
DTEND;TZID=Europe/Helsinki:20250530T160000
DTSTAMP:20260421T083328
CREATED:20250509T122421Z
LAST-MODIFIED:20250522T095805Z
UID:12575-1748620800-1748620800@www.simri.it
SUMMARY:Webinar Prodotti brillanti. Intenzioni oscure. Smascherare il fascino - Giornata Mondiale senza Tabacco 2025
DESCRIPTION:In occasione della Giornata mondiale senza Tabacco\, la Task Force “Vaping in Children and Adolescents: Harms and Strategies to Promote Preventive Interventions” e il Comitato Advocacy SIMRI hanno organizzato il webinar “Prodotti brillanti. Intenzioni oscure. Smascherare il fascino”\, che si terrà venerdì 30 maggio 2025 dalle ore 16:00 alle 18:00. \nL’iscrizione è gratuita. Per scaricare il programma e registrarti al webinar clicca QUI\nInoltre è stata realizzata una brochure sul tema\, che verrà distribuita ai ragazzi e alle famiglie nei centri SIMRI di Pneumologia Pediatrica che aderiranno all’iniziativa. \nPer scaricare la Brochure informativa clicca QUI\nPer scaricare la lista dei centri aderenti all’iniziativa clicca QUI
URL:https://www.simri.it/evento/giornata-mondiale-senza-tabacco-2025/
CATEGORIES:In Evidenza,Webinar
ATTACH;FMTTYPE=image/png:https://www.simri.it/wp-content/uploads/2025/05/DIS-e-sito-35.png
END:VEVENT
END:VCALENDAR