BEGIN:VCALENDAR
VERSION:2.0
PRODID:-//SIMRI - ECPv6.11.2//NONSGML v1.0//EN
CALSCALE:GREGORIAN
METHOD:PUBLISH
X-WR-CALNAME:SIMRI
X-ORIGINAL-URL:https://www.simri.it
X-WR-CALDESC:Eventi per SIMRI
REFRESH-INTERVAL;VALUE=DURATION:PT1H
X-Robots-Tag:noindex
X-PUBLISHED-TTL:PT1H
BEGIN:VTIMEZONE
TZID:Europe/Helsinki
BEGIN:DAYLIGHT
TZOFFSETFROM:+0200
TZOFFSETTO:+0300
TZNAME:EEST
DTSTART:20260329T010000
END:DAYLIGHT
BEGIN:STANDARD
TZOFFSETFROM:+0300
TZOFFSETTO:+0200
TZNAME:EET
DTSTART:20261025T010000
END:STANDARD
END:VTIMEZONE
BEGIN:VEVENT
DTSTART;TZID=Europe/Helsinki:20260305T170000
DTEND;TZID=Europe/Helsinki:20260305T190000
DTSTAMP:20260420T140555
CREATED:20260212T165659Z
LAST-MODIFIED:20260305T151830Z
UID:15623-1772730000-1772737200@www.simri.it
SUMMARY:Webinar SIMRI Asma e QT lungo in pediatria
DESCRIPTION:Per il ciclo di Webinar SIMRI\, il 5 marzo 2026 dalle ore 17.00 alle 19.00\, il Gruppo di Studio “Asma e Immunoallergologia” organizza il Webinar “Asma e QT lungo in pediatria”.\nL’ evento è stato inserito tra i programmi nazionali di Educazione Continua in Medicina (E.C.M.) con 3 crediti formativi per la professione di Infermiere\, Infermiere Pediatrico\, Fisioterapista e Medico Chirurgo con le seguenti specializzazioni: Allergologia e Immunologia Clinica\, Malattie dell’Apparato Respiratorio\, Pediatria\, Pediatria di Libera Scelta. \nPer iscriverti clicca QUI \n\n\nSCARICA IL PROGRAMMA
URL:https://www.simri.it/evento/webinar-asma-2026/
CATEGORIES:Eventi ECM,In Evidenza,NoIndex,Webinar
ATTACH;FMTTYPE=image/jpeg:https://www.simri.it/wp-content/uploads/2026/02/C26-080_400x350.jpg
END:VEVENT
BEGIN:VEVENT
DTSTART;TZID=Europe/Helsinki:20260316T170000
DTEND;TZID=Europe/Helsinki:20260316T190000
DTSTAMP:20260420T140555
CREATED:20260226T145458Z
LAST-MODIFIED:20260227T094146Z
UID:15814-1773680400-1773687600@www.simri.it
SUMMARY:Webinar SIMRI La fisioterapia respiratoria in età pediatrica
DESCRIPTION:Per il ciclo di Webinar SIMRI\, il 16 marzo 2026 dalle ore 17.00 alle 18.45\, il Gruppo di Studio “Epidemiologia\, Funzionalità e Riabilitazione Respiratoria in età pediatrica” organizza il Webinar “La fisioterapia respiratoria in età pediatrica”\, in occasione del WORLD REHAB WEEK.\nL’ evento è stato inserito tra i programmi nazionali di Educazione Continua in Medicina (E.C.M.) con 3 crediti formativi per la professione di Infermiere\, Infermiere Pediatrico\, Fisioterapista e Medico Chirurgo con le seguenti specializzazioni: Allergologia e Immunologia Clinica\, Malattie dell’Apparato Respiratorio\, Pediatria\, Pediatria di Libera Scelta. \nPer iscriverti clicca QUI \n\n\nSCARICA IL PROGRAMMA
URL:https://www.simri.it/evento/webinar-fisioterapia-respiratoria/
CATEGORIES:Eventi ECM,In Evidenza,NoIndex,Webinar
ATTACH;FMTTYPE=image/jpeg:https://www.simri.it/wp-content/uploads/2026/02/C26-081_400x350-1.jpg
END:VEVENT
BEGIN:VEVENT
DTSTART;TZID=Europe/Helsinki:20260319T160000
DTEND;TZID=Europe/Helsinki:20260319T180000
DTSTAMP:20260420T140555
CREATED:20260220T155046Z
LAST-MODIFIED:20260220T155719Z
UID:15703-1773936000-1773943200@www.simri.it
SUMMARY:Webinar SIMRI Ossigenoterapia a lungo termine in età pediatrica
DESCRIPTION:Per il ciclo di Webinar SIMRI\, il 19 marzo 2026 dalle ore 16.00 alle 18.00\, il Gruppo di Studio “Insufficienza Respiratoria Cronica & Ventilazione Meccanica” organizza il Webinar “Ossigenoterapia a lungo termine in età pediatrica”.\nL’ evento è stato inserito tra i programmi nazionali di Educazione Continua in Medicina (E.C.M.) con 3 crediti formativi per la professione di Infermiere\, Infermiere Pediatrico\, Fisioterapista e Medico Chirurgo con le seguenti specializzazioni: Allergologia e Immunologia Clinica\, Malattie dell’Apparato Respiratorio\, Pediatria\, Pediatria di Libera Scelta. \nPer iscriverti clicca QUI \n\n\nSCARICA IL PROGRAMMA
URL:https://www.simri.it/evento/webinar-aossigenoterapia/
CATEGORIES:Eventi ECM,In Evidenza,NoIndex,Webinar
ATTACH;FMTTYPE=image/jpeg:https://www.simri.it/wp-content/uploads/2026/02/C26-082_400x350-1.jpg
END:VEVENT
END:VCALENDAR