BEGIN:VCALENDAR
VERSION:2.0
PRODID:-//SIMRI - ECPv6.11.2//NONSGML v1.0//EN
CALSCALE:GREGORIAN
METHOD:PUBLISH
X-ORIGINAL-URL:https://www.simri.it
X-WR-CALDESC:Eventi per SIMRI
REFRESH-INTERVAL;VALUE=DURATION:PT1H
X-Robots-Tag:noindex
X-PUBLISHED-TTL:PT1H
BEGIN:VTIMEZONE
TZID:Europe/Helsinki
BEGIN:DAYLIGHT
TZOFFSETFROM:+0200
TZOFFSETTO:+0300
TZNAME:EEST
DTSTART:20260329T010000
END:DAYLIGHT
BEGIN:STANDARD
TZOFFSETFROM:+0300
TZOFFSETTO:+0200
TZNAME:EET
DTSTART:20261025T010000
END:STANDARD
END:VTIMEZONE
BEGIN:VEVENT
DTSTART;TZID=Europe/Helsinki:20260414T073000
DTEND;TZID=Europe/Helsinki:20260514T083000
DTSTAMP:20260420T140825
CREATED:20250731T091349Z
LAST-MODIFIED:20260330T090817Z
UID:13694-1776151800-1778747400@www.simri.it
SUMMARY:Webinar SIMRI Clinical Cold Cases 2026
DESCRIPTION:A seguito del grande successo riscontrato nelle precedenti edizioni\, la Società Italiana per le Malattie Respiratorie Infantili è lieta di annunciare la prosecuzione del progetto “Clinical Cold Cases” per tutto il il 2026. \nIl progetto prevede una serie di webinar a cadenza mensile\, incentrati sulla presentazione e discussione di casi clinici complessi e di diﬃcile inquadramento diagnostico e/o terapeutico\, proposti dai principali Centri italiani di Pneumologia Pediatrica.\nL’iniziativa\, che ha già riscosso ampio consenso tra i professionisti del settore\, nasce con l’obiettivo di favorire il confronto scientiﬁco tra esperti\, stimolare il pensiero critico e promuovere la condivisione delle esperienze cliniche maturate nei diversi contesti assistenziali. \nI webinar “Clinical Cold Cases” rappresentano un’importante occasione di formazione e aggiornamento scientiﬁco per tutti i professionisti del settore\, contribuendo attivamente a raﬀorzare una rete nazionale solida e dinamica tra i Centri di Pneumologia Pediatrica di terzo livello. \nPROSSIMO INCONTRO: 14 APRILE 2026 ORE 7:30-8:30\nPer iscriverti clicca QUI\nPer visionare tutti i Webinar Clinical Cold Case Series clicca QUI
URL:https://www.simri.it/evento/clinical-cold-cases-2026/
CATEGORIES:In Evidenza,Webinar
ATTACH;FMTTYPE=image/jpeg:https://www.simri.it/wp-content/uploads/2025/07/C26_400x350-APRIL-.jpg
END:VEVENT
BEGIN:VEVENT
DTSTART;TZID=Europe/Helsinki:20260505T173000
DTEND;TZID=Europe/Helsinki:20260505T183000
DTSTAMP:20260420T140825
CREATED:20260410T135427Z
LAST-MODIFIED:20260414T134925Z
UID:16167-1778002200-1778005800@www.simri.it
SUMMARY:Webinar Giornata Mondiale dell'Asma - 5 maggio 2026
DESCRIPTION:In occasione della Giornata Mondiale dell’Asma\, che quest’anno si celebra il 5 maggio 2026\, si terrà un Webinar per Pazienti e Famiglie dal titolo “Asma nel bambino: informare\, prevenire\, curare” \n\nPer visionare il Programma e iscriverti scarica la Locadina
URL:https://www.simri.it/evento/webinar-wad-2026/
CATEGORIES:Webinar
ATTACH;FMTTYPE=image/png:https://www.simri.it/wp-content/uploads/2026/03/ChatGPT-Image-24-mar-2026-09_45_35.png
END:VEVENT
BEGIN:VEVENT
DTSTART;TZID=Europe/Helsinki:20260519T170000
DTEND;TZID=Europe/Helsinki:20260519T183000
DTSTAMP:20260420T140825
CREATED:20260401T072659Z
LAST-MODIFIED:20260401T072752Z
UID:16124-1779210000-1779215400@www.simri.it
SUMMARY:Webinar congiunto Forum JMs-ONSP "La tosse nel bambino. Dall'accesso in pronto soccorso alla gestione della tosse cronica"
DESCRIPTION:Nell’ambito della collaborazione Forum Jms SIMRI e ONSP\, martedì 19 maggio 2026 dalle ore 17.00 alle 18.30 si terrà il Webinar “La tosse nel bambino. Dall’accesso in pronto soccorso alla gestione della tosse cronica” \n\nPer visionare il Programma scarica la Locadina\n\n\nPer collegarti al webinar clicca QUI
URL:https://www.simri.it/evento/webinar-simri-jms-onsp-2026/
CATEGORIES:In Evidenza,Webinar
ATTACH;FMTTYPE=image/png:https://www.simri.it/wp-content/uploads/2026/04/Screenshot-2026-03-31-alle-18.21.39.png
END:VEVENT
END:VCALENDAR