BEGIN:VCALENDAR
VERSION:2.0
PRODID:-//SIMRI - ECPv6.11.2//NONSGML v1.0//EN
CALSCALE:GREGORIAN
METHOD:PUBLISH
X-WR-CALNAME:SIMRI
X-ORIGINAL-URL:https://www.simri.it
X-WR-CALDESC:Eventi per SIMRI
REFRESH-INTERVAL;VALUE=DURATION:PT1H
X-Robots-Tag:noindex
X-PUBLISHED-TTL:PT1H
BEGIN:VTIMEZONE
TZID:Europe/Helsinki
BEGIN:DAYLIGHT
TZOFFSETFROM:+0200
TZOFFSETTO:+0300
TZNAME:EEST
DTSTART:20240331T010000
END:DAYLIGHT
BEGIN:STANDARD
TZOFFSETFROM:+0300
TZOFFSETTO:+0200
TZNAME:EET
DTSTART:20241027T010000
END:STANDARD
END:VTIMEZONE
BEGIN:VEVENT
DTSTART;TZID=Europe/Helsinki:20241003T190000
DTEND;TZID=Europe/Helsinki:20241003T200000
DTSTAMP:20260421T212746
CREATED:20240921T082910Z
LAST-MODIFIED:20241025T205231Z
UID:6380-1727982000-1727985600@www.simri.it
SUMMARY:VIPPN Clinical Cases - ATS/SIMRI Interest Group - 3 ottobre 2024
DESCRIPTION:Nell’ambito della consolidata collaborazione ATS/SIMRI\, anche quest’anno si terrà la serie di casi clinici del Virtual International Pediatric Pulmonary Network (VIPPN)\, in cui si darà spazio a giovani soci SIMRI che presenteranno un caso clinico. \nIl primo caso “Severe asthma not controlled with biological therapy” sarà presentato dalla Dott.ssa Giulia Canali e discusso dal Dr. Michele Ghezzi dell’Ospedale dei Bambini Buzzi di Milano. \nIl secondo caso “Not all that wheezes is bronchospasm!” sarà presentato dalla Dott.ssa Antonella Gambadauro e discusso dalla Dott. Giuseppe Fabio Parisi dell’Ospedale San Marco di Catania. \nIl terzo caso “Persistent wheezing in an adolescent after Mycoplasma infection” sarà presentato dal Dr. Alberto Terminiello e discusso dal Dr. Paolo Del Greco dell’Ospedale Pediatrico Meyer IRCCS di Firenze. \nLa sessione sarà presieduta dal Dr. Enrico Lombardi dell’Ospedale Pediatrico Meyer di Firenze. \nIl webinar si terrà giovedì 3 ottobre 2024 dalle 19:00 alle 20:00.  \nPer partecipare sarà necessario registrarsi al webinar cliccando QUI
URL:https://www.simri.it/evento/vippn-clinical-cases-ats-simri-interest-group-3-ottobre-2024/
LOCATION:online
CATEGORIES:In Evidenza,NoIndex,Webinar
ATTACH;FMTTYPE=image/jpeg:https://www.simri.it/wp-content/uploads/2024/09/ats.jpg
END:VEVENT
END:VCALENDAR