BEGIN:VCALENDAR
VERSION:2.0
PRODID:-//SIMRI - ECPv6.11.2//NONSGML v1.0//EN
CALSCALE:GREGORIAN
METHOD:PUBLISH
X-WR-CALNAME:SIMRI
X-ORIGINAL-URL:https://www.simri.it
X-WR-CALDESC:Eventi per SIMRI
REFRESH-INTERVAL;VALUE=DURATION:PT1H
X-Robots-Tag:noindex
X-PUBLISHED-TTL:PT1H
BEGIN:VTIMEZONE
TZID:Europe/Helsinki
BEGIN:DAYLIGHT
TZOFFSETFROM:+0200
TZOFFSETTO:+0300
TZNAME:EEST
DTSTART:20240331T010000
END:DAYLIGHT
BEGIN:STANDARD
TZOFFSETFROM:+0300
TZOFFSETTO:+0200
TZNAME:EET
DTSTART:20241027T010000
END:STANDARD
END:VTIMEZONE
BEGIN:VEVENT
DTSTART;TZID=Europe/Helsinki:20241008T180000
DTEND;TZID=Europe/Helsinki:20241008T190000
DTSTAMP:20260421T211607
CREATED:20240730T085920Z
LAST-MODIFIED:20241025T205205Z
UID:5182-1728410400-1728414000@www.simri.it
SUMMARY:Webinar ERS Care and transitional recommendations for the respiratory complications of esophageal atresia‐tracheoesophageal fistula
DESCRIPTION:Webinar ERS Care and transitional recommendations for the respiratory complications of esophageal atresia‐tracheoesophageal fistula\nMartedì\, 8 ottobre 2024 – ore 18:00-19:00 (ora italiana)\n \nChairs: Prof. Dr Renato Cutrera (Rome\, Italy)\, Dr Federica Porcaro (Rome\, Italy)\nSpeakers: Prof. Anastassios Koumbourlis (Washington\, United States)\, Dr Thomas Kovesi (Ottawa\, Canada) \nLa partecipazione è gratuita per gli iscritti ERS. \nQualora non lo avessi già fatto\, puoi diventare socio ERS usufruendo della quota agevolata riservata ai soci SIMRI (€ 30\,00). \nRegistrati!
URL:https://www.simri.it/evento/webinar-ers-care-and-transitional-recommendations-for-the-respiratory-complications-of-esophageal-atresia%e2%80%90tracheoesophageal-fistula/
CATEGORIES:NoIndex,Webinar
ATTACH;FMTTYPE=image/jpeg:https://www.simri.it/wp-content/uploads/2024/07/x_ers.jpg
END:VEVENT
END:VCALENDAR