BEGIN:VCALENDAR
VERSION:2.0
PRODID:-//SIMRI - ECPv6.11.2//NONSGML v1.0//EN
CALSCALE:GREGORIAN
METHOD:PUBLISH
X-WR-CALNAME:SIMRI
X-ORIGINAL-URL:https://www.simri.it
X-WR-CALDESC:Eventi per SIMRI
REFRESH-INTERVAL;VALUE=DURATION:PT1H
X-Robots-Tag:noindex
X-PUBLISHED-TTL:PT1H
BEGIN:VTIMEZONE
TZID:UTC
BEGIN:STANDARD
TZOFFSETFROM:+0000
TZOFFSETTO:+0000
TZNAME:UTC
DTSTART:20240101T000000
END:STANDARD
END:VTIMEZONE
BEGIN:VEVENT
DTSTART;TZID=UTC:20241203T170000
DTEND;TZID=UTC:20241203T203000
DTSTAMP:20260421T200404
CREATED:20241127T155754Z
LAST-MODIFIED:20241128T141044Z
UID:2272-1733245200-1733257800@www.simri.it
SUMMARY:Webinar SIMRI La Tosse - 3 dicembre 2024\, ore 17:00-18:30
DESCRIPTION:Per il ciclo di Webinar SIMRI\, il sesto appuntamento si terrà martedì 3 dicembre 2024 dalle ore 17:00 alle 18:30 e si discuterà de LA TOSSE\nL’ evento verrà inserito tra i programmi nazionali di Educazione Continua in Medicina (E.C.M.) per la professione di Infermiere\, Infermiere Pediatrico\, Fisioterapista e Medico Chirurgo con le seguenti specializzazioni: Allergologia e Immunologia Clinica\, Malattie dell’Apparato Respiratorio\, Pediatria\, Pediatria di Libera Scelta. \n\n\nPer iscriverti clicca QUI \nScarica il Programma
URL:https://www.simri.it/evento/webinar-la-tosse/
CATEGORIES:Eventi ECM,In Evidenza,NoIndex,Webinar
ATTACH;FMTTYPE=image/jpeg:https://www.simri.it/wp-content/uploads/2024/05/la-tosse.jpg
END:VEVENT
END:VCALENDAR