BEGIN:VCALENDAR
VERSION:2.0
PRODID:-//SIMRI - ECPv6.11.2//NONSGML v1.0//EN
CALSCALE:GREGORIAN
METHOD:PUBLISH
X-ORIGINAL-URL:https://www.simri.it
X-WR-CALDESC:Eventi per SIMRI
REFRESH-INTERVAL;VALUE=DURATION:PT1H
X-Robots-Tag:noindex
X-PUBLISHED-TTL:PT1H
BEGIN:VTIMEZONE
TZID:Europe/Helsinki
BEGIN:DAYLIGHT
TZOFFSETFROM:+0200
TZOFFSETTO:+0300
TZNAME:EEST
DTSTART:20250330T010000
END:DAYLIGHT
BEGIN:STANDARD
TZOFFSETFROM:+0300
TZOFFSETTO:+0200
TZNAME:EET
DTSTART:20251026T010000
END:STANDARD
END:VTIMEZONE
BEGIN:VEVENT
DTSTART;TZID=Europe/Helsinki:20250114T073000
DTEND;TZID=Europe/Helsinki:20250114T083000
DTSTAMP:20260421T183305
CREATED:20241122T110012Z
LAST-MODIFIED:20241220T120320Z
UID:8893-1736839800-1736843400@www.simri.it
SUMMARY:Webinar SIMRI Clinical Cold Cases – 14 gennaio 2025\, ore 7:30-8:30
DESCRIPTION:Anche per l’anno 2025\, la Società Italiana di Malattie Respiratorie Infantili (SIMRI) ha il piacere di riproporre il progetto “Clinical Cold Cases” che prevede l’avvio di una serie di webinar aventi ad oggetto dei casi clinici irrisolti e di diﬃcile inquadramento diagnostico/terapeutico proposti dai principali Centri italiani di Pneumologia Pediatrica.\nL’intento del progetto è di riunire gli esperti in materia di Pneumologia Pediatrica con una cadenza mensile con l’obiettivo di aprire un tavolo di discussione e confronto relativo ai casi clinici considerati elegibili secondo le esperienze di ciascun coordinatore del centro aderente.\nL’avvio di una serie di webinar “cold cases” è\, quindi\, coerente con la mission della SIMRI\, costante vivaio di risorse\, in cui questa speciﬁca attività ha il pregio di ravvivare i rapporti scientiﬁci tra i Centri Pneumologici Italiani\, consolidando la realtà di una rete interattiva di centri di pneumologia pediatrica di terzo livello. \n1° incontro – 14 gennaio 2025 ore 7:30-8:30\nAddensamento polmonare persistente in età pediatrica: analisi di due casi clinici\nRelatori: Alberto Terminiello ed Enrico Lombardi\nAOU Meyer\, Unità Operativa di Broncopneumologia\, Firenze \nScarica il calendario dei Cold Case Series
URL:https://www.simri.it/evento/webinar-simri-clinical-cold-cases-gennaio-2025/
CATEGORIES:In Evidenza,NoIndex,Webinar
ATTACH;FMTTYPE=image/jpeg:https://www.simri.it/wp-content/uploads/2024/11/C25_400x350-GEN.jpg
END:VEVENT
END:VCALENDAR