BEGIN:VCALENDAR
VERSION:2.0
PRODID:-//SIMRI - ECPv6.11.2//NONSGML v1.0//EN
CALSCALE:GREGORIAN
METHOD:PUBLISH
X-WR-CALNAME:SIMRI
X-ORIGINAL-URL:https://www.simri.it
X-WR-CALDESC:Eventi per SIMRI
REFRESH-INTERVAL;VALUE=DURATION:PT1H
X-Robots-Tag:noindex
X-PUBLISHED-TTL:PT1H
BEGIN:VTIMEZONE
TZID:Europe/Helsinki
BEGIN:DAYLIGHT
TZOFFSETFROM:+0200
TZOFFSETTO:+0300
TZNAME:EEST
DTSTART:20250330T010000
END:DAYLIGHT
BEGIN:STANDARD
TZOFFSETFROM:+0300
TZOFFSETTO:+0200
TZNAME:EET
DTSTART:20251026T010000
END:STANDARD
END:VTIMEZONE
BEGIN:VEVENT
DTSTART;TZID=Europe/Helsinki:20250129T180000
DTEND;TZID=Europe/Helsinki:20250129T193000
DTSTAMP:20260421T151558
CREATED:20250117T152608Z
LAST-MODIFIED:20250117T152746Z
UID:9503-1738173600-1738179000@www.simri.it
SUMMARY:Joint Webinar Albania-Italia Sharing experience together - 29 gennaio 2025 ore 18:00-19:15
DESCRIPTION:Mercoledì 29 gennaio 2025 dalle ore 18:00 alle 19:15 si terrà il Joint Webinar Albania-Italia Sharing experience together. \nUnisciti a noi per un evento esclusivo in cui esperti provenienti dall’Albania e dall’Italia si confronteranno su un tema di fondamentale importanza: la gestione dell’asma e le terapie più appropriate per il trattamento dei pazienti. \nIn un mondo sempre più globale\, condividere esperienze e punti di vista diversi è cruciale per migliorare le pratiche mediche e le soluzioni terapeutiche. Questo webinar offrirà una panoramica completa di approcci differenti\, mettendo in luce best practices e innovazioni nel trattamento dell’asma\, con l’obiettivo di creare un dialogo costruttivo e arricchente tra professionisti di due realtà sanitarie diverse. \nPer saperne di più scarica la Locandina dell’evento e Registrati!
URL:https://www.simri.it/evento/webinar-joint-albania-italia/
CATEGORIES:In Evidenza,Webinar
ATTACH;FMTTYPE=image/png:https://www.simri.it/wp-content/uploads/2025/01/webinar.png
END:VEVENT
END:VCALENDAR