BEGIN:VCALENDAR
VERSION:2.0
PRODID:-//SIMRI - ECPv6.11.2//NONSGML v1.0//EN
CALSCALE:GREGORIAN
METHOD:PUBLISH
X-ORIGINAL-URL:https://www.simri.it
X-WR-CALDESC:Eventi per SIMRI
REFRESH-INTERVAL;VALUE=DURATION:PT1H
X-Robots-Tag:noindex
X-PUBLISHED-TTL:PT1H
BEGIN:VTIMEZONE
TZID:Europe/Helsinki
BEGIN:DAYLIGHT
TZOFFSETFROM:+0200
TZOFFSETTO:+0300
TZNAME:EEST
DTSTART:20250330T010000
END:DAYLIGHT
BEGIN:STANDARD
TZOFFSETFROM:+0300
TZOFFSETTO:+0200
TZNAME:EET
DTSTART:20251026T010000
END:STANDARD
END:VTIMEZONE
BEGIN:VEVENT
DTSTART;TZID=Europe/Helsinki:20250313T160000
DTEND;TZID=Europe/Helsinki:20250313T180000
DTSTAMP:20260421T133136
CREATED:20241121T155022Z
LAST-MODIFIED:20250307T160206Z
UID:11092-1741881600-1741888800@www.simri.it
SUMMARY:Webinar SIMRI OSAS in età evolutiva e terapia con CPAP - 13 marzo 2025
DESCRIPTION:Per il ciclo di Webinar SIMRI\, il 13 marzo 2025 dalle ore 16.00 alle 18.00\, i Gruppo di Studio “Disturbi Respiratori del Sonno” e “Insufficienza Respiratoria Cronica & Ventilazione a Lungo Termine\, organizzano il Webinar “OSAS in età evolutiva e terapia con CPAP”.\nL’ evento è stato inserito tra i programmi nazionali di Educazione Continua in Medicina (E.C.M.) con 3 crediti formativi per la professione di Infermiere\, Infermiere Pediatrico\, Fisioterapista e Medico Chirurgo con le seguenti specializzazioni: Allergologia e Immunologia Clinica\, Malattie dell’Apparato Respiratorio\, Pediatria\, Pediatria di Libera Scelta. \n\n\nPer iscriverti clicca QUI \nSCARICA IL PROGRAMMA
URL:https://www.simri.it/evento/webinar-osas-cpap-marzo-2025/
CATEGORIES:Eventi ECM,In Evidenza,NoIndex,Webinar
ATTACH;FMTTYPE=image/jpeg:https://www.simri.it/wp-content/uploads/2025/02/C25-47_400x350.jpg
END:VEVENT
END:VCALENDAR