BEGIN:VCALENDAR
VERSION:2.0
PRODID:-//SIMRI - ECPv6.11.2//NONSGML v1.0//EN
CALSCALE:GREGORIAN
METHOD:PUBLISH
X-ORIGINAL-URL:https://www.simri.it
X-WR-CALDESC:Eventi per SIMRI
REFRESH-INTERVAL;VALUE=DURATION:PT1H
X-Robots-Tag:noindex
X-PUBLISHED-TTL:PT1H
BEGIN:VTIMEZONE
TZID:Europe/Helsinki
BEGIN:DAYLIGHT
TZOFFSETFROM:+0200
TZOFFSETTO:+0300
TZNAME:EEST
DTSTART:20250330T010000
END:DAYLIGHT
BEGIN:STANDARD
TZOFFSETFROM:+0300
TZOFFSETTO:+0200
TZNAME:EET
DTSTART:20251026T010000
END:STANDARD
END:VTIMEZONE
BEGIN:VEVENT
DTSTART;TZID=Europe/Helsinki:20250530T160000
DTEND;TZID=Europe/Helsinki:20250530T160000
DTSTAMP:20260421T083444
CREATED:20250509T122421Z
LAST-MODIFIED:20250522T095805Z
UID:12575-1748620800-1748620800@www.simri.it
SUMMARY:Webinar Prodotti brillanti. Intenzioni oscure. Smascherare il fascino - Giornata Mondiale senza Tabacco 2025
DESCRIPTION:In occasione della Giornata mondiale senza Tabacco\, la Task Force “Vaping in Children and Adolescents: Harms and Strategies to Promote Preventive Interventions” e il Comitato Advocacy SIMRI hanno organizzato il webinar “Prodotti brillanti. Intenzioni oscure. Smascherare il fascino”\, che si terrà venerdì 30 maggio 2025 dalle ore 16:00 alle 18:00. \nL’iscrizione è gratuita. Per scaricare il programma e registrarti al webinar clicca QUI\nInoltre è stata realizzata una brochure sul tema\, che verrà distribuita ai ragazzi e alle famiglie nei centri SIMRI di Pneumologia Pediatrica che aderiranno all’iniziativa. \nPer scaricare la Brochure informativa clicca QUI\nPer scaricare la lista dei centri aderenti all’iniziativa clicca QUI
URL:https://www.simri.it/evento/giornata-mondiale-senza-tabacco-2025/
CATEGORIES:In Evidenza,Webinar
ATTACH;FMTTYPE=image/png:https://www.simri.it/wp-content/uploads/2025/05/DIS-e-sito-35.png
END:VEVENT
END:VCALENDAR