BEGIN:VCALENDAR
VERSION:2.0
PRODID:-//SIMRI - ECPv6.11.2//NONSGML v1.0//EN
CALSCALE:GREGORIAN
METHOD:PUBLISH
X-ORIGINAL-URL:https://www.simri.it
X-WR-CALDESC:Eventi per SIMRI
REFRESH-INTERVAL;VALUE=DURATION:PT1H
X-Robots-Tag:noindex
X-PUBLISHED-TTL:PT1H
BEGIN:VTIMEZONE
TZID:Europe/Helsinki
BEGIN:DAYLIGHT
TZOFFSETFROM:+0200
TZOFFSETTO:+0300
TZNAME:EEST
DTSTART:20250330T010000
END:DAYLIGHT
BEGIN:STANDARD
TZOFFSETFROM:+0300
TZOFFSETTO:+0200
TZNAME:EET
DTSTART:20251026T010000
END:STANDARD
END:VTIMEZONE
BEGIN:VEVENT
DTSTART;TZID=Europe/Helsinki:20250630T173000
DTEND;TZID=Europe/Helsinki:20250630T183000
DTSTAMP:20260421T051031
CREATED:20250424T131129Z
LAST-MODIFIED:20250627T084023Z
UID:12270-1751304600-1751308200@www.simri.it
SUMMARY:Webinar congiunto Forum JMs-Società Italiana Chirurgia Pediatria - Discussione congiunta di casi clinici ad interesse chirurgico e pneumologico - II incontro
DESCRIPTION:Nell’ambito della collaborazione Forum Jms SIMRI e Società Italiana Chirurgia Pediatrica\, lunedì 30 giugno 2025 dalle ore 17.30 alle 18.45 si terrà il Webinar Discussione congiunta di casi clinici ad interesse chirurgico e pneumologico – II incontro \nDi seguito il programma del Webinar: \n\n17.30 Introduzione – Valerio Gentilino\, Michele Torre\, Greta Di Mattia\, Stefania La Grutta\, Valentina Agnese Ferraro\n17.35 PRIMO CASO CLINICO\n17.55 Discussione primo caso clinico\n18.10 SECONDO CASO CLINICO\n18.30 Discussione secondo caso clinico\n18.45: Chiusura dei lavori – Valerio Gentilino\, Michele Torre\, Greta Di Mattia\, Stefania La Grutta\, Valentina Agnese Ferraro\n\n\n\n\nPer collegarti al webinar clicca QUI
URL:https://www.simri.it/evento/webinar-simri-jms-sicp-2/
CATEGORIES:In Evidenza,Webinar
ATTACH;FMTTYPE=image/png:https://www.simri.it/wp-content/uploads/2025/04/x_Webinar_simri.png
END:VEVENT
END:VCALENDAR