BEGIN:VCALENDAR
VERSION:2.0
PRODID:-//SIMRI - ECPv6.11.2//NONSGML v1.0//EN
CALSCALE:GREGORIAN
METHOD:PUBLISH
X-ORIGINAL-URL:https://www.simri.it
X-WR-CALDESC:Eventi per SIMRI
REFRESH-INTERVAL;VALUE=DURATION:PT1H
X-Robots-Tag:noindex
X-PUBLISHED-TTL:PT1H
BEGIN:VTIMEZONE
TZID:Europe/Helsinki
BEGIN:DAYLIGHT
TZOFFSETFROM:+0200
TZOFFSETTO:+0300
TZNAME:EEST
DTSTART:20250330T010000
END:DAYLIGHT
BEGIN:STANDARD
TZOFFSETFROM:+0300
TZOFFSETTO:+0200
TZNAME:EET
DTSTART:20251026T010000
END:STANDARD
END:VTIMEZONE
BEGIN:VEVENT
DTSTART;TZID=Europe/Helsinki:20250701T170000
DTEND;TZID=Europe/Helsinki:20250701T183000
DTSTAMP:20260421T050956
CREATED:20250606T133954Z
LAST-MODIFIED:20250606T134427Z
UID:12936-1751389200-1751394600@www.simri.it
SUMMARY:Webinar SIMRI Bronchiectasie non-FC: spunti di approfondimento - WORLD BRONCHIECTASIS DAY
DESCRIPTION:Per il ciclo di Webinar SIMRI\, il 1° luglio 2025 dalle ore 17.00 alle 18.30\, il Gruppo di Studio “Educazione e Ricerca in DCP e Bronchiectasie non-FC”\, in occasione del World Bronchiectasis Day\, organizza il Webinar “Bronchiectasie non-FC: spunti di riflessione”.\nL’ evento è stato inserito tra i programmi nazionali di Educazione Continua in Medicina (E.C.M.) con 1\,5 crediti formativi per la professione di Infermiere\, Infermiere Pediatrico\, Fisioterapista e Medico Chirurgo con le seguenti specializzazioni: Allergologia e Immunologia Clinica\, Malattie dell’Apparato Respiratorio\, Pediatria\, Pediatria di Libera Scelta. \n\n\nPer iscriverti clicca QUI \nSCARICA IL PROGRAMMA
URL:https://www.simri.it/evento/webinar-dcp-2025/
CATEGORIES:Eventi ECM,In Evidenza,NoIndex,Webinar
ATTACH;FMTTYPE=image/jpeg:https://www.simri.it/wp-content/uploads/2025/06/C25-54_400x350.jpg
END:VEVENT
END:VCALENDAR