BEGIN:VCALENDAR
VERSION:2.0
PRODID:-//SIMRI - ECPv6.11.2//NONSGML v1.0//EN
CALSCALE:GREGORIAN
METHOD:PUBLISH
X-WR-CALNAME:SIMRI
X-ORIGINAL-URL:https://www.simri.it
X-WR-CALDESC:Eventi per SIMRI
REFRESH-INTERVAL;VALUE=DURATION:PT1H
X-Robots-Tag:noindex
X-PUBLISHED-TTL:PT1H
BEGIN:VTIMEZONE
TZID:Europe/Helsinki
BEGIN:DAYLIGHT
TZOFFSETFROM:+0200
TZOFFSETTO:+0300
TZNAME:EEST
DTSTART:20250330T010000
END:DAYLIGHT
BEGIN:STANDARD
TZOFFSETFROM:+0300
TZOFFSETTO:+0200
TZNAME:EET
DTSTART:20251026T010000
END:STANDARD
END:VTIMEZONE
BEGIN:VEVENT
DTSTART;TZID=Europe/Helsinki:20251204T190000
DTEND;TZID=Europe/Helsinki:20251204T200000
DTSTAMP:20260420T194805
CREATED:20251127T154832Z
LAST-MODIFIED:20251203T122711Z
UID:14589-1764874800-1764878400@www.simri.it
SUMMARY:VIPPN Clinical Cases - ATS/SIMRI Interest Group - 4 dicembre 2025
DESCRIPTION:Nell’ambito della consolidata collaborazione ATS/SIMRI\, anche quest’anno si terrà la serie di casi clinici del Virtual International Pediatric Pulmonary Network (VIPPN)\, in cui si darà spazio a giovani soci SIMRI che presenteranno un caso clinico. \n“Pulmonary Involvement with Immunodeficiency: The Role of CTLA-4 in the Pathogenesis of Granulomatous Lymphocytic Interstitial Lung Disease (GLILD)” sarà presentato dal Dott. Michele Abramo e discusso dalla Prof.ssa Luana Nosetti dell’Ospedale F. Del Ponte di Varese. \n“Extremely early-onset systemic juvenile idiopathic arthritis complicated by sever lung disease” sarà presentato dalla Dott.ssa Benedetta Puglisi e discusso dalla Dott. Sergio Ghirardo dell’Ospedale Burlo-Garofolo di Trieste. \n“A pediatric case of follicular tracheobronchits: the role of bronchus-associated lymphoid tissue (BALT)” sarà presentato dalla Dr.ssa Arianna Rossi e discusso dal Dr. Mauro Lizzi\, rispettivamente dell’Università degli Studi di Parma e dell’OPBG di Roma. \nLa sessione sarà presieduta dal Dr. Enrico Lombardi dell’Ospedale Pediatrico Meyer di Firenze. \nIl webinar si terrà giovedì 4 dicembre 2025 dalle 19:00 alle 20:00 (ora italiana).  \nPer maggiori informazioni e iscriverti clicca QUI
URL:https://www.simri.it/evento/vippn-clinical-cases-ats-simri-interest-group-2025-2/
CATEGORIES:In Evidenza,NoIndex,Webinar
ATTACH;FMTTYPE=image/jpeg:https://www.simri.it/wp-content/uploads/2024/09/ats.jpg
END:VEVENT
END:VCALENDAR