BEGIN:VCALENDAR
VERSION:2.0
PRODID:-//SIMRI - ECPv6.11.2//NONSGML v1.0//EN
CALSCALE:GREGORIAN
METHOD:PUBLISH
X-ORIGINAL-URL:https://www.simri.it
X-WR-CALDESC:Eventi per SIMRI
REFRESH-INTERVAL;VALUE=DURATION:PT1H
X-Robots-Tag:noindex
X-PUBLISHED-TTL:PT1H
BEGIN:VTIMEZONE
TZID:Europe/Helsinki
BEGIN:DAYLIGHT
TZOFFSETFROM:+0200
TZOFFSETTO:+0300
TZNAME:EEST
DTSTART:20250330T010000
END:DAYLIGHT
BEGIN:STANDARD
TZOFFSETFROM:+0300
TZOFFSETTO:+0200
TZNAME:EET
DTSTART:20251026T010000
END:STANDARD
END:VTIMEZONE
BEGIN:VEVENT
DTSTART;TZID=Europe/Helsinki:20251212T090000
DTEND;TZID=Europe/Helsinki:20251213T133000
DTSTAMP:20260420T180855
CREATED:20250515T102654Z
LAST-MODIFIED:20251020T155015Z
UID:12621-1765530000-1765632600@www.simri.it
SUMMARY:Winter School SIMRI - Accademia di Pneumologia Pediatrica
DESCRIPTION:Il 12-13 dicembre 2025 si terrà ad Aci Castello (CT) la Winter School Accademia di Pneumologia Pediatrica.\nECM • L’evento è stato inserito nel programma nazionale di Educazione Continua in Medicina (ECM) con 12\,6 crediti formativi per la professione di Medico Chirurgo con le seguenti specializzazioni: Allergologia e Immunologia Clinica\, Malattie dell’Apparato Respiratorio\, Otorinolaringoiatria\, Pediatria e Pediatria di Libera Scelta. \nPer maggiori informazioni e iscriverti clicca QUI \nScarica il PROGRAMMA PRELIMINARE
URL:https://www.simri.it/evento/winter-school-2025/
LOCATION:Aci Castello
CATEGORIES:Corsi SIMRI,Eventi ECM,In Evidenza,Winter School
ATTACH;FMTTYPE=image/jpeg:https://www.simri.it/wp-content/uploads/2025/05/c25-069_Post400x350ac.jpg
END:VEVENT
END:VCALENDAR