BEGIN:VCALENDAR
VERSION:2.0
PRODID:-//SIMRI - ECPv6.11.2//NONSGML v1.0//EN
CALSCALE:GREGORIAN
METHOD:PUBLISH
X-WR-CALNAME:SIMRI
X-ORIGINAL-URL:https://www.simri.it
X-WR-CALDESC:Eventi per SIMRI
REFRESH-INTERVAL;VALUE=DURATION:PT1H
X-Robots-Tag:noindex
X-PUBLISHED-TTL:PT1H
BEGIN:VTIMEZONE
TZID:Europe/Helsinki
BEGIN:DAYLIGHT
TZOFFSETFROM:+0200
TZOFFSETTO:+0300
TZNAME:EEST
DTSTART:20250330T010000
END:DAYLIGHT
BEGIN:STANDARD
TZOFFSETFROM:+0300
TZOFFSETTO:+0200
TZNAME:EET
DTSTART:20251026T010000
END:STANDARD
END:VTIMEZONE
BEGIN:VEVENT
DTSTART;TZID=Europe/Helsinki:20250406T170000
DTEND;TZID=Europe/Helsinki:20250408T153000
DTSTAMP:20260421T001456
CREATED:20241121T154733Z
LAST-MODIFIED:20250319T095032Z
UID:10327-1743958800-1744126200@www.simri.it
SUMMARY:II. International ERN LUNG – PCD Meeting\, Napoli 6-8 aprile 2025
DESCRIPTION:Si terrà a Napoli dal 6 all’8 aprile 2025 il II. International ERN LUNG – PCD Meeting. \nQuesto incontro\, organizzato congiuntamente dall’Università Federico II di Napoli (Italia)\, dall’Università di Münster (Germania)\, dall’Università di Cipro (Cipro) e dall’Università di Copenaghen (Danimarca)\, riunirà scienziati da tutto il mondo per condividere i loro progressi nella diagnosi\, nella ricerca clinica e nell’assistenza della DCP. \nSi invitano ricercatori e medici a presentare i loro abstract in inglese su un argomento a loro scelta relativo alla Discinesia Ciliare Primaria. Sei lavori selezionati saranno premiati e presentati come comunicazioni orali durante la seconda giornata del meeting. \nPer maggiori informazioni visita il sito
URL:https://www.simri.it/evento/2nd-international-ern-lung-pcd-meeting-napoli/
LOCATION:NAPOLI
CATEGORIES:Altri Eventi
ATTACH;FMTTYPE=image/jpeg:https://www.simri.it/wp-content/uploads/2025/01/C25-78_Post400x350.jpg
END:VEVENT
END:VCALENDAR