BEGIN:VCALENDAR
VERSION:2.0
PRODID:-//SIMRI - ECPv6.11.2//NONSGML v1.0//EN
CALSCALE:GREGORIAN
METHOD:PUBLISH
X-WR-CALNAME:SIMRI
X-ORIGINAL-URL:https://www.simri.it
X-WR-CALDESC:Eventi per SIMRI
REFRESH-INTERVAL;VALUE=DURATION:PT1H
X-Robots-Tag:noindex
X-PUBLISHED-TTL:PT1H
BEGIN:VTIMEZONE
TZID:Europe/Helsinki
BEGIN:DAYLIGHT
TZOFFSETFROM:+0200
TZOFFSETTO:+0300
TZNAME:EEST
DTSTART:20250330T010000
END:DAYLIGHT
BEGIN:STANDARD
TZOFFSETFROM:+0300
TZOFFSETTO:+0200
TZNAME:EET
DTSTART:20251026T010000
END:STANDARD
END:VTIMEZONE
BEGIN:VEVENT
DTSTART;TZID=Europe/Helsinki:20250220T000000
DTEND;TZID=Europe/Helsinki:20250222T000000
DTSTAMP:20260421T164829
CREATED:20241121T163011Z
LAST-MODIFIED:20250224T112957Z
UID:8808-1740009600-1740182400@www.simri.it
SUMMARY:4th European Bronchiectasis Workshop - Parigi\, 20-22 febbraio 2025
DESCRIPTION:Il 20-22 febbraio 2025 si terrà a Parigi il 4th European Bronchiectasis Workshop \nTra gli obiettivi del Workshop vi sono la necessità di aggiornamento e formazione della comunità scientifica\, grazie all’incontro dei maggiori esperti europei di bronchiectasie\, ma avrà un grande valore nel promuovere con forza il riconoscimento della malattia nei paesi europei in cui è ancora trascurata. \nPer maggiori informazioni visita il sito WEB del Workshop
URL:https://www.simri.it/evento/4th-european-bronchiectasis-workshop-parigi-2025/
LOCATION:Parigi
CATEGORIES:Altri Eventi
ATTACH;FMTTYPE=image/png:https://www.simri.it/wp-content/uploads/2024/11/parigi.png
END:VEVENT
END:VCALENDAR