BEGIN:VCALENDAR
VERSION:2.0
PRODID:-//SIMRI - ECPv6.11.2//NONSGML v1.0//EN
CALSCALE:GREGORIAN
METHOD:PUBLISH
X-WR-CALNAME:SIMRI
X-ORIGINAL-URL:https://www.simri.it
X-WR-CALDESC:Eventi per SIMRI
REFRESH-INTERVAL;VALUE=DURATION:PT1H
X-Robots-Tag:noindex
X-PUBLISHED-TTL:PT1H
BEGIN:VTIMEZONE
TZID:Europe/Helsinki
BEGIN:DAYLIGHT
TZOFFSETFROM:+0200
TZOFFSETTO:+0300
TZNAME:EEST
DTSTART:20250330T010000
END:DAYLIGHT
BEGIN:STANDARD
TZOFFSETFROM:+0300
TZOFFSETTO:+0200
TZNAME:EET
DTSTART:20251026T010000
END:STANDARD
END:VTIMEZONE
BEGIN:VEVENT
DTSTART;TZID=Europe/Helsinki:20250306T000000
DTEND;TZID=Europe/Helsinki:20250306T000000
DTSTAMP:20260421T164653
CREATED:20241121T161003Z
LAST-MODIFIED:20250304T173637Z
UID:11217-1741219200-1741219200@www.simri.it
SUMMARY:Bandi di concorso per l'assegnazione di contributi formativi per la partecipazione ai corsi La polisonnografia ed i disturbi respiratori del sonno in età pediatrica (Varese 6-7 giugno 2025) e II Corso Insufficienza Respiratoria\, Ossigenoterapia ed utilizzo della CPAP in età pediatrica (Napoli\, 20-21 giugno 2025)
DESCRIPTION:Sono istituiti Nr. 2 (due) contributi formativi\, messi a disposizione dalla SIMRI\, che copriranno la quota d’iscrizione al “Corso Teorico-Pratico La polisonnografia ed i disturbi respiratori del sonno in età pediatrica – Livello Advanced” che si terrà a Varese il 6-7 giugno 2025\, e Nr. 2 (due) contributi formativi che copriranno la quota d’iscrizione al “II Corso Teorico-Pratico Insufficienza respiratoria\, ossigenoterapia e utilizzo della CPAP in età pediatrica”\, che si terrà a Napoli il 20-21 giugno 2025.\nI contributi formativi sono destinati ai soci SIMRI (medico\, infermiere e fisioterapista) di età inferiore ai 40 anni ed in regola con il pagamento della quota associativa all’anno 2025. \nColoro che vorranno partecipare ai bandi dovranno inviare entro il 6 marzo 2025\, da considerare come termine perentorio\, all’indirizzo mail segreteria@simri.it il proprio curriculum vitae che testimoni l’interesse e la specifica attività nel campo della pneumologia pediatrica\, sia per quanto attinente alla ricerca\, sia per ciò che riguarda l’assistenza clinica. \nPer maggiori informazioni e presentare la propria candidatura per il Corso Teorico-Pratico La polisonnografia ed i disturbi respiratori del sonno in età pediatrica – Livello Advanced clicca QUI \nPer maggiori informazioni e presentare la propria candidatura per il II Corso Teorico-Pratico Insufficienza respiratoria\, ossigenoterapia e utilizzo della CPAP in età pediatrica clicca QUI
URL:https://www.simri.it/evento/bandi-corsi-simri/
CATEGORIES:Bandi Attivi,In Evidenza
ATTACH;FMTTYPE=image/png:https://www.simri.it/wp-content/uploads/2024/10/formazione_simri.png
END:VEVENT
END:VCALENDAR