BEGIN:VCALENDAR
VERSION:2.0
PRODID:-//SIMRI - ECPv6.11.2//NONSGML v1.0//EN
CALSCALE:GREGORIAN
METHOD:PUBLISH
X-WR-CALNAME:SIMRI
X-ORIGINAL-URL:https://www.simri.it
X-WR-CALDESC:Eventi per SIMRI
REFRESH-INTERVAL;VALUE=DURATION:PT1H
X-Robots-Tag:noindex
X-PUBLISHED-TTL:PT1H
BEGIN:VTIMEZONE
TZID:Europe/Helsinki
BEGIN:DAYLIGHT
TZOFFSETFROM:+0200
TZOFFSETTO:+0300
TZNAME:EEST
DTSTART:20260329T010000
END:DAYLIGHT
BEGIN:STANDARD
TZOFFSETFROM:+0300
TZOFFSETTO:+0200
TZNAME:EET
DTSTART:20261025T010000
END:STANDARD
END:VTIMEZONE
BEGIN:VEVENT
DTSTART;TZID=Europe/Helsinki:20260401T000000
DTEND;TZID=Europe/Helsinki:20260401T000000
DTSTAMP:20260420T152454
CREATED:20260326T155842Z
LAST-MODIFIED:20260326T160344Z
UID:16062-1775001600-1775001600@www.simri.it
SUMMARY:Call to action per l'assegnazione di Nr. 2 contributi formativi SIMRI per la partecipazione al congresso COLLOQUI IN PEDIATRIA\, ALLERGOLOGIA E PNEUMOLOGIA - Monopoli (BA)\, 8-9 maggio2026
DESCRIPTION:Sono istituiti Nr. 2 (due) contributi formativi per la partecipazione all’evento Colloqui in Pediatria\, Allergologia e Pneumologia\, che si terrà a Monopoli (BA)\, 8-9 maggio 2026\, destinati a giovani soci SIMRI con età inferiore ai 40 anni che copriranno la quota d’iscrizione. \nRequisiti\nColoro che vorranno partecipare dovranno inviare domanda\, congiuntamente al proprio CV che testimoni l’interesse e la specifica attività nel campo della pneumologia pediatrica\, entro il 1° aprile p.v.\, all’indirizzo mail: segreteria@simri.it. \nPer scaricare il Bando clicca QUI \nPer maggiori info sull’evento clicca QUI
URL:https://www.simri.it/evento/bando-colloqui-2026/
CATEGORIES:Bandi Attivi,In Evidenza,NoIndex
ATTACH;FMTTYPE=image/jpeg:https://www.simri.it/wp-content/uploads/2026/03/CPAP-2026-per-sito-MP.jpg
END:VEVENT
END:VCALENDAR