BEGIN:VCALENDAR
VERSION:2.0
PRODID:-//SIMRI - ECPv6.11.2//NONSGML v1.0//EN
CALSCALE:GREGORIAN
METHOD:PUBLISH
X-WR-CALNAME:SIMRI
X-ORIGINAL-URL:https://www.simri.it
X-WR-CALDESC:Eventi per SIMRI
REFRESH-INTERVAL;VALUE=DURATION:PT1H
X-Robots-Tag:noindex
X-PUBLISHED-TTL:PT1H
BEGIN:VTIMEZONE
TZID:Europe/Helsinki
BEGIN:DAYLIGHT
TZOFFSETFROM:+0200
TZOFFSETTO:+0300
TZNAME:EEST
DTSTART:20240331T010000
END:DAYLIGHT
BEGIN:STANDARD
TZOFFSETFROM:+0300
TZOFFSETTO:+0200
TZNAME:EET
DTSTART:20241027T010000
END:STANDARD
END:VTIMEZONE
BEGIN:VEVENT
DTSTART;VALUE=DATE:20241018
DTEND;VALUE=DATE:20241019
DTSTAMP:20260422T005347
CREATED:20240925T165427Z
LAST-MODIFIED:20241025T205105Z
UID:6560-1729209600-1729295999@www.simri.it
SUMMARY:BANDO DI CONCORSO PER L'ASSEGNAZIONE DI 5 CONTRIBUTI FORMATIVI SIMRI AL CORSO "ROADMAP SULLA GESTIONE DELLA TOSSE NEL BAMBINO" - Palermo\, 16 novembre 2024
DESCRIPTION:Sono istituiti Nr.5 (cinque) contributi formativi\, messi a disposizione dalla SIMRI\, che copriranno la quota d’iscrizione al “Roadmap sulla gestione della tosse nel bambino” che si terrà a Palermo il 16 novembre 2024.\nI contributi formativi sono destinati ai soci SIMRI (medico) di età inferiore ai 40 anni ed in regola con il pagamento della quota associativa all’anno 2024. \nColoro che vorranno partecipare al bando dovranno inviare entro il 18 ottobre 2024\, da considerare come termine perentorio\, all’indirizzo mail segreteria@simri.it il proprio curriculum vitae che testimoni l’interesse e la specifica attività nel campo della pneumologia pediatrica\, sia per quanto attinente alla ricerca\, sia per ciò che riguarda l’assistenza clinica\, nonché l’elenco delle eventuali pubblicazioni fatte. \nPer maggiori informazioni e scaricare il Bando clicca QUI
URL:https://www.simri.it/evento/bando-di-concorso-per-lassegnazione-di-5-contributi-formativi-simri-al-corso-roadmap-sulla-gestione-della-tosse-nel-bambino-palermo-16-novembre-2024/
CATEGORIES:Bandi Attivi,In Evidenza,NoIndex
ATTACH;FMTTYPE=image/jpeg:https://www.simri.it/wp-content/uploads/2024/05/C24-89_400x350-Palermo.jpg
END:VEVENT
END:VCALENDAR