BEGIN:VCALENDAR
VERSION:2.0
PRODID:-//SIMRI - ECPv6.11.2//NONSGML v1.0//EN
CALSCALE:GREGORIAN
METHOD:PUBLISH
X-WR-CALNAME:SIMRI
X-ORIGINAL-URL:https://www.simri.it
X-WR-CALDESC:Eventi per SIMRI
REFRESH-INTERVAL;VALUE=DURATION:PT1H
X-Robots-Tag:noindex
X-PUBLISHED-TTL:PT1H
BEGIN:VTIMEZONE
TZID:UTC
BEGIN:STANDARD
TZOFFSETFROM:+0000
TZOFFSETTO:+0000
TZNAME:UTC
DTSTART:20240101T000000
END:STANDARD
END:VTIMEZONE
BEGIN:VEVENT
DTSTART;TZID=UTC:20240527T080000
DTEND;TZID=UTC:20240527T080000
DTSTAMP:20260421T113841
CREATED:20240527T090504Z
LAST-MODIFIED:20241119T153528Z
UID:2629-1716796800-1716796800@www.simri.it
SUMMARY:Bando per i Contributi Scientifici Programma del XXVIII Congresso Nazionale SIMRI - Torino\, 10-12 ottobre 2024
DESCRIPTION:Il Comitato Organizzatore del XXVIII Congresso Nazionale SIMRI (Torino\, 10-12 ottobre 2024)\, visto il successo dello scorso anno\, ha deciso di inserire nel programma le sessioni: “Casi clinici indimenticabili”;\n\n“La Pneumologia pediatrica che guarda al futuro” Il bando è rivolto ai soci SIMRI in regola con il pagamento delle quote associative e con età inferiore ai 40 anni. Domanda di partecipazione a CongressoLa domanda di partecipazione\, da inviare entro il 15 maggio 2024 all’indirizzo email simri2024@centercongressi.com\, dovrà essere corredata dai seguenti allegati: curriculum vitae;\n\nfotocopia di un documento di identità;\n\nun breve abstract in lingua italiana (max 200 parole) del contributo da presentare per le sessioni sopra indicate.L’esito della selezione sarà comunicato ai partecipanti\, per via telematica\, entro il 15 giugno 2023. Scarica il \nBando Sessione per Contributi Scientifici XXVIII Congresso Nazionale SIMRI
URL:https://www.simri.it/evento/bando-per-i-contributi-scientifici-programma-del-xxviii-congresso-nazionale-simri-torino-10-12-ottobre-2024/
CATEGORIES:Bandi Attivi,NoIndex
ATTACH;FMTTYPE=image/png:https://www.simri.it/wp-content/uploads/2024/05/ricerca_simri_2.png
END:VEVENT
END:VCALENDAR