BEGIN:VCALENDAR
VERSION:2.0
PRODID:-//SIMRI - ECPv6.11.2//NONSGML v1.0//EN
CALSCALE:GREGORIAN
METHOD:PUBLISH
X-WR-CALNAME:SIMRI
X-ORIGINAL-URL:https://www.simri.it
X-WR-CALDESC:Eventi per SIMRI
REFRESH-INTERVAL;VALUE=DURATION:PT1H
X-Robots-Tag:noindex
X-PUBLISHED-TTL:PT1H
BEGIN:VTIMEZONE
TZID:Europe/Helsinki
BEGIN:DAYLIGHT
TZOFFSETFROM:+0200
TZOFFSETTO:+0300
TZNAME:EEST
DTSTART:20260329T010000
END:DAYLIGHT
BEGIN:STANDARD
TZOFFSETFROM:+0300
TZOFFSETTO:+0200
TZNAME:EET
DTSTART:20261025T010000
END:STANDARD
END:VTIMEZONE
BEGIN:VEVENT
DTSTART;TZID=Europe/Helsinki:20260205T000000
DTEND;TZID=Europe/Helsinki:20260205T000000
DTSTAMP:20260421T153137
CREATED:20260128T165846Z
LAST-MODIFIED:20260210T165702Z
UID:15234-1770249600-1770249600@www.simri.it
SUMMARY:Call to action per l'assegnazione di Nr. 2 contributi formativi SIMRI per la partecipazione all'evento RSVVW’26\, A GLOBAL CONFERENCE ON NOVEL RSV PREVENTATIVE - Roma\, 17-20 febbraio 2026
DESCRIPTION:Sono istituiti Nr. 2 (due) contributi formativi per la partecipazione all’evento RSVVW’26 – A GLOBAL CONFERENCE ON NOVEL RSV PREVENTATIVE\, che si terrà a Roma il 17-20 febbraio 2026\, destinati a giovani soci SIMRI con età inferiore ai 40 anni e in regola con il pagamento delle quote associative a tutto il 2026 che copriranno la quota d’iscrizione. \nColoro che vorranno partecipare dovranno inviare domanda\, congiuntamente al proprio CV che testimoni l’interesse e la specifica attività nel campo della pneumologia pediatrica\, entro il 5 febbraio p.v.\, all’indirizzo mail: segreteria@simri.it \nPer scaricare il Bando clicca QUI \nPer maggiori info sull’evento clicca QUI
URL:https://www.simri.it/evento/bando-resvinet/
LOCATION:Roma
CATEGORIES:Bandi Attivi,In Evidenza,NoIndex
ATTACH;FMTTYPE=image/jpeg:https://www.simri.it/wp-content/uploads/2026/01/channels4_profile.jpg
END:VEVENT
END:VCALENDAR