BEGIN:VCALENDAR
VERSION:2.0
PRODID:-//SIMRI - ECPv6.11.2//NONSGML v1.0//EN
CALSCALE:GREGORIAN
METHOD:PUBLISH
X-WR-CALNAME:SIMRI
X-ORIGINAL-URL:https://www.simri.it
X-WR-CALDESC:Eventi per SIMRI
REFRESH-INTERVAL;VALUE=DURATION:PT1H
X-Robots-Tag:noindex
X-PUBLISHED-TTL:PT1H
BEGIN:VTIMEZONE
TZID:Europe/Helsinki
BEGIN:DAYLIGHT
TZOFFSETFROM:+0200
TZOFFSETTO:+0300
TZNAME:EEST
DTSTART:20250330T010000
END:DAYLIGHT
BEGIN:STANDARD
TZOFFSETFROM:+0300
TZOFFSETTO:+0200
TZNAME:EET
DTSTART:20251026T010000
END:STANDARD
END:VTIMEZONE
BEGIN:VEVENT
DTSTART;TZID=Europe/Helsinki:20251113T080000
DTEND;TZID=Europe/Helsinki:20251115T110000
DTSTAMP:20260421T170351
CREATED:20250513T102834Z
LAST-MODIFIED:20251110T110409Z
UID:12594-1763020800-1763204400@www.simri.it
SUMMARY:Il bambino medicalmente complesso tra ospedale e territorio - Roma\, 13-15 novembre 2025
DESCRIPTION:Il 13-15 novembre 2025 si terrà a Roma il 15° Corso RES Il bambino medicalmente complesso tra ospedale e territorio. \nECM\nL’evento è stato inserito nel programma nazionale di Educazione Continua in Medicina (ECM) per la professione di Infermiere\, Infermiere Pediatrico\, Fisioterapista\, Logopedista\, Terapista della Neuro e Psicomotricità dell’età evolutiva (TNPEE)\, Medico Chirurgo con le seguenti discipline: Anestesia e rianimazione\, Malattie dell’apparato Respiratorio\, Malattie Medicina fisica e riabilitazione\, Neonatologia\, Neuropsichiatria infantile\, Pediatria\, Pediatria (Pediatri di Libera Scelta). \nISCRIZIONE\nPer maggiori informazioni visita il SITO DELL’EVENTO
URL:https://www.simri.it/evento/bmc-roma/
LOCATION:Roma
CATEGORIES:Altri Eventi,Eventi ECM
ATTACH;FMTTYPE=image/jpeg:https://www.simri.it/wp-content/uploads/2025/05/C25-024_Post400x350.jpg
END:VEVENT
END:VCALENDAR