BEGIN:VCALENDAR
VERSION:2.0
PRODID:-//SIMRI - ECPv6.11.2//NONSGML v1.0//EN
CALSCALE:GREGORIAN
METHOD:PUBLISH
X-WR-CALNAME:SIMRI
X-ORIGINAL-URL:https://www.simri.it
X-WR-CALDESC:Eventi per SIMRI
REFRESH-INTERVAL;VALUE=DURATION:PT1H
X-Robots-Tag:noindex
X-PUBLISHED-TTL:PT1H
BEGIN:VTIMEZONE
TZID:Europe/Helsinki
BEGIN:DAYLIGHT
TZOFFSETFROM:+0200
TZOFFSETTO:+0300
TZNAME:EEST
DTSTART:20250330T010000
END:DAYLIGHT
BEGIN:STANDARD
TZOFFSETFROM:+0300
TZOFFSETTO:+0200
TZNAME:EET
DTSTART:20251026T010000
END:STANDARD
END:VTIMEZONE
BEGIN:VEVENT
DTSTART;TZID=Europe/Helsinki:20251003T000000
DTEND;TZID=Europe/Helsinki:20251004T000000
DTSTAMP:20260420T173302
CREATED:20250326T115831Z
LAST-MODIFIED:20250701T082935Z
UID:11805-1759449600-1759536000@www.simri.it
SUMMARY:Congresso Interregionale SIMRI Sez. Puglia-Basilicata-Calabria
DESCRIPTION:Il 3-4 ottobre 2025\, si terrà a Trani il Congresso Interregionale SIMRI – Sez. Puglia-Basilicata-Calabria. \nDESTINATARI DELL’INIZIATIVA\nQuesto evento sarà inserito nel programma nazionale di Educazione Continua in Medicina (ECM) e accreditato per le professioni di Fisioterapista\, Infermiere\, Infermiere Pediatrico e Medico Chirurgo con le seguenti specialità: Allergologia e Immunologia Clinica\, Epidemiologia\, Malattie dell’Apparato Respiratorio\, Medicina Fisica e Riabilitazione\, Medicina Generale (Medici di Famiglia)\, Medicina Interna\, Neonatologia\, Otorinolaringoiatria\, Pediatria e Pediatria di Libera Scelta. \nISCRIZIONI\nLa partecipazione al corso è limitata alle prime 100 iscrizioni. Per maggiori informazioni e per iscriverti clicca QUI\n \n\n\nSCARICA IL PROGRAMMA PRELIMINARE
URL:https://www.simri.it/evento/congresso-interregionale-simri-puglia-2025/
LOCATION:Trani
CATEGORIES:Congressi Regionali,Eventi ECM,In Evidenza
ATTACH;FMTTYPE=image/jpeg:https://www.simri.it/wp-content/uploads/2025/03/c25-012_Post400x350.jpg
END:VEVENT
END:VCALENDAR