BEGIN:VCALENDAR
VERSION:2.0
PRODID:-//SIMRI - ECPv6.11.2//NONSGML v1.0//EN
CALSCALE:GREGORIAN
METHOD:PUBLISH
X-WR-CALNAME:SIMRI
X-ORIGINAL-URL:https://www.simri.it
X-WR-CALDESC:Eventi per SIMRI
REFRESH-INTERVAL;VALUE=DURATION:PT1H
X-Robots-Tag:noindex
X-PUBLISHED-TTL:PT1H
BEGIN:VTIMEZONE
TZID:UTC
BEGIN:STANDARD
TZOFFSETFROM:+0000
TZOFFSETTO:+0000
TZNAME:UTC
DTSTART:20240101T000000
END:STANDARD
END:VTIMEZONE
BEGIN:VEVENT
DTSTART;TZID=UTC:20240622T080000
DTEND;TZID=UTC:20240622T170000
DTSTAMP:20260420T213540
CREATED:20240408T111716Z
LAST-MODIFIED:20241025T205508Z
UID:1141-1719043200-1719075600@www.simri.it
SUMMARY:Firenze: Congresso Interregionale SIMRI - Sez. Emilia-Romagna\, Toscana\, Repubblica di San Marino
DESCRIPTION:A breve verrà pubblicato il programma del Corso e ci si potrà registrare all’evento.\nPer maggiori informazioni inviare una mail a: segreteria@simri.it  \n\n\nScarica il Save the Date
URL:https://www.simri.it/evento/congresso-interregionale-simri-sez-emilia-romagna-toscana-repubblica-di-san-marino/
CATEGORIES:Congressi Regionali,NoIndex
ATTACH;FMTTYPE=image/jpeg:https://www.simri.it/wp-content/uploads/2024/04/C24-86_1080.jpg
ORGANIZER;CN="SIMRI sez. Emilia Romagna%2C Toscana%2C San Marino":MAILTO:segreteria@simri.it
END:VEVENT
END:VCALENDAR