BEGIN:VCALENDAR
VERSION:2.0
PRODID:-//SIMRI - ECPv6.11.2//NONSGML v1.0//EN
CALSCALE:GREGORIAN
METHOD:PUBLISH
X-WR-CALNAME:SIMRI
X-ORIGINAL-URL:https://www.simri.it
X-WR-CALDESC:Eventi per SIMRI
REFRESH-INTERVAL;VALUE=DURATION:PT1H
X-Robots-Tag:noindex
X-PUBLISHED-TTL:PT1H
BEGIN:VTIMEZONE
TZID:UTC
BEGIN:STANDARD
TZOFFSETFROM:+0000
TZOFFSETTO:+0000
TZNAME:UTC
DTSTART:20240101T000000
END:STANDARD
END:VTIMEZONE
BEGIN:VEVENT
DTSTART;TZID=UTC:20240426T080000
DTEND;TZID=UTC:20240427T170000
DTSTAMP:20260421T130906
CREATED:20240408T111024Z
LAST-MODIFIED:20241025T205722Z
UID:1137-1714118400-1714237200@www.simri.it
SUMMARY:Congresso Interregionale SIMRI Sez. Lazio-Umbria-Marche
DESCRIPTION:Congresso Interregionale SIMRI Sez. Lazio-Umbria-Marche “La Pneumologia Pediatrica coast to coast“.\n\n\n  \nDal 26-27 aprile 2024 si terrà presso la Villa Tuscolana di Frascati \nLa registrazione all’evento dovrà essere effettuata sul sito https://centercongressi.com; la Segreteria confermerà la partecipazione al corso contestualmente al ricevimento dell’iscrizione e al pagamento della quota di partecipazione. \nQuote di partecipazione\nSocio SIMRI  €100\,00 (iva inclusa)\nNON Socio SIMRI €183\,00 (iva inclusa)\nL’iscrizione al Congresso è gratuita per gli specializzandi SIMRI in regola con le quote sociali all’anno in corso\, ma limitata ai primi 50 che einvieranno una mail a segreteria@simri.it \nL’evento verrà inserito tra i programmi di Educazione Continua in Medicina (ECM) per la professione di Fisioterapista\, Infermiere\, Infermiere Pediatrico e Medico Chirurgo con le seguenti specializzazioni: Allergologia e Immunologia Clinica\, Anestesia e Rianimazione\, Cure Palliative\, Epidemiologia\, Gastroenterologia\, Igiene degli Alimenti e della Nutrizione\, Malattie dell’Apparato Respiratorio\, Medicina Fisica e Riabilitazione\, Medicina Generale (medici di famiglia)\, Medicina Interna\, Neonatologia\, Otorinolaringoiatria\, Pediatria\, Pediatria di Libera Scelta. \nPer scaricare il Programma preliminare clicca QUI \nPer registrarsi clicca QUI
URL:https://www.simri.it/evento/congresso-interregionale-simri-sez-lazio-umbria-marche/
CATEGORIES:Congressi Regionali,NoIndex
ATTACH;FMTTYPE=image/jpeg:https://www.simri.it/wp-content/uploads/2024/04/c24-25_Post400x350-1.jpg
ORGANIZER;CN="SIMRI Sez. Lazio-Umbria-Marche":MAILTO:segreteria@simri.it
END:VEVENT
END:VCALENDAR