BEGIN:VCALENDAR
VERSION:2.0
PRODID:-//SIMRI - ECPv6.11.2//NONSGML v1.0//EN
CALSCALE:GREGORIAN
METHOD:PUBLISH
X-WR-CALNAME:SIMRI
X-ORIGINAL-URL:https://www.simri.it
X-WR-CALDESC:Eventi per SIMRI
REFRESH-INTERVAL;VALUE=DURATION:PT1H
X-Robots-Tag:noindex
X-PUBLISHED-TTL:PT1H
BEGIN:VTIMEZONE
TZID:Europe/Helsinki
BEGIN:DAYLIGHT
TZOFFSETFROM:+0200
TZOFFSETTO:+0300
TZNAME:EEST
DTSTART:20250330T010000
END:DAYLIGHT
BEGIN:STANDARD
TZOFFSETFROM:+0300
TZOFFSETTO:+0200
TZNAME:EET
DTSTART:20251026T010000
END:STANDARD
END:VTIMEZONE
BEGIN:VEVENT
DTSTART;TZID=Europe/Helsinki:20250510T090000
DTEND;TZID=Europe/Helsinki:20250510T170000
DTSTAMP:20260420T154253
CREATED:20250127T085538Z
LAST-MODIFIED:20250506T104347Z
UID:9857-1746867600-1746896400@www.simri.it
SUMMARY:Congresso Interregionale SIMRI - Sez. Friuli-Venezia Giulia\, Trentino-Alto Adige\, Veneto
DESCRIPTION:Sabato 10 maggio 2025\, presso il Centro Congressi Palazzo della Salute di Padova\, si terrà il Congresso Interregionale SIMRI – Sez. Friuli-Venezia Giulia\, Trentino-Alto Adige\, Veneto – IL BAMBINO CON PATOLOGIA RESPIRATORIA: DALL’AMBULATORIO DEL PEDIATRA A QUELLO DELLO SPECIALISTA. \nQUOTE DI PARTECIPAZIONE\nSocio SIMRI                 €100\,00 (IVA inclusa)\nNON Socio SIMRI        €183\,00 (IVA inclusa) \nL’iscrizione comprende: partecipazione alle sessioni scientifiche\, kit congressuale\, attestato di partecipazione\, attestato ECM (agli aventi diritto)\, coffee break e lunch. \nL’iscrizione al congresso è gratuita per gli specializzandi SIMRI in regola con le quote sociali all’anno in corso\, ma limitata ai primi 50 che invieranno una mail a segreteria@simri.it con specifica richiesta. \nDESTINATARI DELL’INIZIATIVA\nQuesto evento sarà inserito nel programma nazionale di Educazione Continua in Medicina (ECM) e accreditato per le professioni di Fisioterapista\, Infermiere\, Infermiere Pediatrico e Medico Chirurgo con le seguenti specialità: Allergologia e Immunologia Clinica\, Epidemiologia\, Malattie dell’Apparato Respiratorio\, Medicina Fisica e Riabilitazione\, Medicina Generale (Medici di Famiglia)\, Medicina Interna\, Neonatologia\, Otorinolaringoiatria\, Pediatria e Pediatria di Libera Scelta. \nREGISTRAZIONE\nLa registrazione all’evento dovrà essere effettuata al seguente LINK \nPer maggiori informazioni scarica il PROGRAMMA PRELIMINARE
URL:https://www.simri.it/evento/congresso-interregionale-simri-sezione-friuli-trentino-veneto-2025/
LOCATION:Padova\, Via San Francesco\, 90\, Padova\, 35121\, Italy
CATEGORIES:Congressi Regionali,Eventi ECM,In Evidenza
ATTACH;FMTTYPE=image/jpeg:https://www.simri.it/wp-content/uploads/2025/01/c25-003_Post400x350.jpg
END:VEVENT
END:VCALENDAR