BEGIN:VCALENDAR
VERSION:2.0
PRODID:-//SIMRI - ECPv6.11.2//NONSGML v1.0//EN
CALSCALE:GREGORIAN
METHOD:PUBLISH
X-WR-CALNAME:SIMRI
X-ORIGINAL-URL:https://www.simri.it
X-WR-CALDESC:Eventi per SIMRI
REFRESH-INTERVAL;VALUE=DURATION:PT1H
X-Robots-Tag:noindex
X-PUBLISHED-TTL:PT1H
BEGIN:VTIMEZONE
TZID:Europe/Helsinki
BEGIN:DAYLIGHT
TZOFFSETFROM:+0200
TZOFFSETTO:+0300
TZNAME:EEST
DTSTART:20250330T010000
END:DAYLIGHT
BEGIN:STANDARD
TZOFFSETFROM:+0300
TZOFFSETTO:+0200
TZNAME:EET
DTSTART:20251026T010000
END:STANDARD
END:VTIMEZONE
BEGIN:VEVENT
DTSTART;TZID=Europe/Helsinki:20250616T163000
DTEND;TZID=Europe/Helsinki:20250616T173000
DTSTAMP:20260421T101658
CREATED:20250403T161828Z
LAST-MODIFIED:20250408T064549Z
UID:11996-1750091400-1750095000@www.simri.it
SUMMARY:Convocazione Assemblea Generale dei Soci SIMRI - 16 giugno 2025
DESCRIPTION:L’Assemblea Generale dei Soci SIMRI è convocata in prima convocazione il giorno 16 giugno 2025 alle ore 06:00 ed in seconda convocazione il giorno 16 giugno 2025 alle ore 16:30\, in modalità online (seguiranno le procedure di collegamento). \nPer saperne di più scarica la Convocazione Assemblea 16 giugno 2025
URL:https://www.simri.it/evento/convocazione-assemblea-generale-dei-soci-simri-16-giugno-2025/
CATEGORIES:Altri Eventi
ATTACH;FMTTYPE=image/png:https://www.simri.it/wp-content/uploads/2025/04/x_assemblea_simri.png
END:VEVENT
END:VCALENDAR