BEGIN:VCALENDAR
VERSION:2.0
PRODID:-//SIMRI - ECPv6.11.2//NONSGML v1.0//EN
CALSCALE:GREGORIAN
METHOD:PUBLISH
X-WR-CALNAME:SIMRI
X-ORIGINAL-URL:https://www.simri.it
X-WR-CALDESC:Eventi per SIMRI
REFRESH-INTERVAL;VALUE=DURATION:PT1H
X-Robots-Tag:noindex
X-PUBLISHED-TTL:PT1H
BEGIN:VTIMEZONE
TZID:Europe/Helsinki
BEGIN:DAYLIGHT
TZOFFSETFROM:+0200
TZOFFSETTO:+0300
TZNAME:EEST
DTSTART:20250330T010000
END:DAYLIGHT
BEGIN:STANDARD
TZOFFSETFROM:+0300
TZOFFSETTO:+0200
TZNAME:EET
DTSTART:20251026T010000
END:STANDARD
END:VTIMEZONE
BEGIN:VEVENT
DTSTART;TZID=Europe/Helsinki:20251015T140000
DTEND;TZID=Europe/Helsinki:20251016T173000
DTSTAMP:20260420T173418
CREATED:20250926T103119Z
LAST-MODIFIED:20250926T103119Z
UID:14261-1760536800-1760635800@www.simri.it
SUMMARY:Corso su biomarcatori di esposizione ad allergeni pollinici
DESCRIPTION:l 15 e 16 ottobre si terrà il corso ECM “Identificazione di biomarcatori di esposizione ed effetto da allergeni pollinici mediante valutazione combinata di reattività allergica\, mediatori citochinici\, metaboliti ai fini della gestione del rischio da esposizione a allergeni aerodispersi” (BRIC 2022 – ID15). \nL’evento\, organizzato da Sapienza Università di Roma\, DEP Lazio e Inail\, si svolgerà in modalità blended: \n\n15 ottobre: videoconferenza\n16 ottobre: workshop in presenza presso la Casa dell’Aviatore (Viale dell’Università 20\, Roma)\n\nIl DEP Lazio sarà parte attiva in entrambe le giornate\, con interventi sugli effetti sulla salute della popolazione generale e dei lavoratori\, sulle evidenze della letteratura e sulle caratteristiche della popolazione in studio. \nPer iscriversi inviare una mail a info@fisioair.it \n» Programma della videoconferenza (15 ottobre)\n» Programma del workshop (16 ottobre)
URL:https://www.simri.it/evento/corso-biomarcatori-dep-lazio/
LOCATION:Roma
CATEGORIES:Altri Eventi,In Evidenza
ATTACH;FMTTYPE=image/jpeg:https://www.simri.it/wp-content/uploads/2025/07/100101934_l-scaled.jpg
END:VEVENT
END:VCALENDAR