BEGIN:VCALENDAR
VERSION:2.0
PRODID:-//SIMRI - ECPv6.11.2//NONSGML v1.0//EN
CALSCALE:GREGORIAN
METHOD:PUBLISH
X-WR-CALNAME:SIMRI
X-ORIGINAL-URL:https://www.simri.it
X-WR-CALDESC:Eventi per SIMRI
REFRESH-INTERVAL;VALUE=DURATION:PT1H
X-Robots-Tag:noindex
X-PUBLISHED-TTL:PT1H
BEGIN:VTIMEZONE
TZID:UTC
BEGIN:STANDARD
TZOFFSETFROM:+0000
TZOFFSETTO:+0000
TZNAME:UTC
DTSTART:20240101T000000
END:STANDARD
END:VTIMEZONE
BEGIN:VEVENT
DTSTART;TZID=UTC:20240611T080000
DTEND;TZID=UTC:20240611T170000
DTSTAMP:20260421T050056
CREATED:20240418T091701Z
LAST-MODIFIED:20241025T205533Z
UID:1560-1718092800-1718125200@www.simri.it
SUMMARY:Webinar Diagnostica dell'Asma
DESCRIPTION:Per il ciclo di Webinar SIMRI\, il terzo appuntamento si terrà martedì 11 giugno 2024 dalle ore 17:00 alle 18:30 e si discuterà di DIAGNOSTICA DELL’ASMA. \n\n\nL’ evento verrà inserito tra i programmi nazionali di Educazione Continua in Medicina (E.C.M.) per la professione di Infermiere\, Infermiere Pediatrico\, Fisioterapista e Medico Chirurgo con le seguenti specializzazioni: \n\nAllergologia e Immunologia Clinica;\nMalattie dell’Apparato Respiratorio;\nPediatria;\nPediatria di Libera Scelta.\n\nIl Programma e le modalità di iscrizione al Webinar verranno pubblicati a breve.
URL:https://www.simri.it/evento/diagnostica-dellasma/
CATEGORIES:Asma Grave,Eventi ECM,NoIndex,Webinar
ATTACH;FMTTYPE=image/jpeg:https://www.simri.it/wp-content/uploads/2024/04/C24-081_400x350.jpg
END:VEVENT
END:VCALENDAR