BEGIN:VCALENDAR
VERSION:2.0
PRODID:-//SIMRI - ECPv6.11.2//NONSGML v1.0//EN
CALSCALE:GREGORIAN
METHOD:PUBLISH
X-WR-CALNAME:SIMRI
X-ORIGINAL-URL:https://www.simri.it
X-WR-CALDESC:Eventi per SIMRI
REFRESH-INTERVAL;VALUE=DURATION:PT1H
X-Robots-Tag:noindex
X-PUBLISHED-TTL:PT1H
BEGIN:VTIMEZONE
TZID:Europe/Helsinki
BEGIN:DAYLIGHT
TZOFFSETFROM:+0200
TZOFFSETTO:+0300
TZNAME:EEST
DTSTART:20250330T010000
END:DAYLIGHT
BEGIN:STANDARD
TZOFFSETFROM:+0300
TZOFFSETTO:+0200
TZNAME:EET
DTSTART:20251026T010000
END:STANDARD
END:VTIMEZONE
BEGIN:VEVENT
DTSTART;TZID=Europe/Helsinki:20250927T080000
DTEND;TZID=Europe/Helsinki:20251001T170000
DTSTAMP:20260420T201932
CREATED:20250623T121953Z
LAST-MODIFIED:20250623T121953Z
UID:13182-1758960000-1759338000@www.simri.it
SUMMARY:ERS Congress 2025 - Amsterdam\, 27 settembre - 1° ottobre 2025
DESCRIPTION:Il 27 settembre-1° ottobre 2025 si terrà ad Amsterdam l’ERS Congress 2025. \nIl Congresso ERS di quest’anno presenterà ben 400 sessioni scientifiche ed educative incentrate su tutte le aree della salute e della medicina respiratoria\, tra cui contenuti per tutte le aree specialistiche\, temi caldi e principali aree patologiche\, sessioni dedicate ai professionisti all’inizio della carriera e sessioni legate al tema del Congresso di quest’anno “La salute respiratoria nel mondo”. \nLa registrazione anticipata per il Congresso ERS 2025 termina tra meno di un mese!\nRegistratevi entro le 23:59 CEST di mercoledì 9 luglio 2025 per beneficiare di tariffe notevolmente scontate. I membri congiunti di SIMRI e di ERS hanno diritto a tariffe scontate per i soli membri. \nRegistrazione al Congresso ERS disponibili QUI
URL:https://www.simri.it/evento/ers-congresso-2025/
LOCATION:Amsterdam
CATEGORIES:Altri Eventi,NoIndex
ATTACH;FMTTYPE=image/png:https://www.simri.it/wp-content/uploads/2025/06/ers2025.png
END:VEVENT
END:VCALENDAR