BEGIN:VCALENDAR
VERSION:2.0
PRODID:-//SIMRI - ECPv6.11.2//NONSGML v1.0//EN
CALSCALE:GREGORIAN
METHOD:PUBLISH
X-WR-CALNAME:SIMRI
X-ORIGINAL-URL:https://www.simri.it
X-WR-CALDESC:Eventi per SIMRI
REFRESH-INTERVAL;VALUE=DURATION:PT1H
X-Robots-Tag:noindex
X-PUBLISHED-TTL:PT1H
BEGIN:VTIMEZONE
TZID:Europe/Helsinki
BEGIN:DAYLIGHT
TZOFFSETFROM:+0200
TZOFFSETTO:+0300
TZNAME:EEST
DTSTART:20250330T010000
END:DAYLIGHT
BEGIN:STANDARD
TZOFFSETFROM:+0300
TZOFFSETTO:+0200
TZNAME:EET
DTSTART:20251026T010000
END:STANDARD
END:VTIMEZONE
BEGIN:VEVENT
DTSTART;TZID=Europe/Helsinki:20250306T083000
DTEND;TZID=Europe/Helsinki:20250308T130000
DTSTAMP:20260421T151845
CREATED:20241121T160016Z
LAST-MODIFIED:20250214T155325Z
UID:7766-1741249800-1741438800@www.simri.it
SUMMARY:ERS Paediatric Asthma - Vienna\, 6-8 marzo 2025
DESCRIPTION:Il 6-8 marzo 2025 si terrà a Vienna il corso ERS Paediatric Asthma \nI partecipanti impareranno a conoscere le diverse prospettive e le sfide dell’asma in diversi contesti sanitari\, nonché il punto di vista dei pazienti/genitori. \nGli aspetti chiave presentati includono lo sviluppo e la patogenesi dell’asma\, l’influenza del microbioma e dell’alimentazione e l’influenza delle infezioni virali\, tra gli altri. \nPer maggiori informazioni visita il sito WEB del corso
URL:https://www.simri.it/evento/ers-course-paediatric-asthma-vienna-2025/
LOCATION:Vienna\, Schottenring 11\, Vienna\, Austria
CATEGORIES:Altri Eventi,NoIndex
ATTACH;FMTTYPE=image/jpeg:https://www.simri.it/wp-content/uploads/2024/10/asma-bambini-sintomi.jpg
END:VEVENT
END:VCALENDAR