BEGIN:VCALENDAR
VERSION:2.0
PRODID:-//SIMRI - ECPv6.11.2//NONSGML v1.0//EN
CALSCALE:GREGORIAN
METHOD:PUBLISH
X-WR-CALNAME:SIMRI
X-ORIGINAL-URL:https://www.simri.it
X-WR-CALDESC:Eventi per SIMRI
REFRESH-INTERVAL;VALUE=DURATION:PT1H
X-Robots-Tag:noindex
X-PUBLISHED-TTL:PT1H
BEGIN:VTIMEZONE
TZID:Europe/Helsinki
BEGIN:DAYLIGHT
TZOFFSETFROM:+0200
TZOFFSETTO:+0300
TZNAME:EEST
DTSTART:20240331T010000
END:DAYLIGHT
BEGIN:STANDARD
TZOFFSETFROM:+0300
TZOFFSETTO:+0200
TZNAME:EET
DTSTART:20241027T010000
END:STANDARD
END:VTIMEZONE
BEGIN:VEVENT
DTSTART;VALUE=DATE:20241002
DTEND;VALUE=DATE:20241003
DTSTAMP:20260421T145629
CREATED:20240829T113537Z
LAST-MODIFIED:20241025T205245Z
UID:6057-1727827200-1727913599@www.simri.it
SUMMARY:ERS Short-Term Research Fellowship and Clinical Training Fellowship programmes
DESCRIPTION:Sono attivi i programmi ERS Short-Term Research Fellowship e Clinical Training Fellowship\, i quali offrono a ricercatori\, clinici e operatori sanitari alle prime armi l’opportunità di dare impulso alle loro carriere nella ricerca di base\, traslazionale e clinica. \nDESTINATARI DEI PROGRAMMI: laureati in medicina o scienze respiratorie (dottori di ricerca\, dottori di ricerca\, dottori di ricerca) o professionisti sanitari qualificati (non dottori di ricerca) attivamente impegnati nella ricerca o nella pratica respiratoria. \nPIANIFICAZIONE: si richiede una proposta di progetto con una componente di mobilità con il coinvolgimento sia del centro di provenienza che di quello ospitante. Assicurarsi sempre di avere tempo sufficiente per discutere e negoziare tutti gli aspetti della candidatura. \nLa scadenza per la presentazione delle domande per entrambi i programmi è mercoledì 2 ottobre 2024 \nPer ulteriori informazioni\, consultare il Bando STRF-Short Term Research Fellowship 2024\nApplication online \nPer ulteriori informazioni\, consultare il Bando CTF – Clinical Training Fellowship 2024\nApplication online \nPer maggiori informazioni scrivere a fellowships@ersnet.org
URL:https://www.simri.it/evento/ers-short-term-research-fellowship-and-clinical-training-fellowship-programmes/
CATEGORIES:Bandi Attivi,In Evidenza,NoIndex
ATTACH;FMTTYPE=image/jpeg:https://www.simri.it/wp-content/uploads/2024/08/60537362_s.jpg
END:VEVENT
END:VCALENDAR