BEGIN:VCALENDAR
VERSION:2.0
PRODID:-//SIMRI - ECPv6.11.2//NONSGML v1.0//EN
CALSCALE:GREGORIAN
METHOD:PUBLISH
X-WR-CALNAME:SIMRI
X-ORIGINAL-URL:https://www.simri.it
X-WR-CALDESC:Eventi per SIMRI
REFRESH-INTERVAL;VALUE=DURATION:PT1H
X-Robots-Tag:noindex
X-PUBLISHED-TTL:PT1H
BEGIN:VTIMEZONE
TZID:Europe/Helsinki
BEGIN:DAYLIGHT
TZOFFSETFROM:+0200
TZOFFSETTO:+0300
TZNAME:EEST
DTSTART:20250330T010000
END:DAYLIGHT
BEGIN:STANDARD
TZOFFSETFROM:+0300
TZOFFSETTO:+0200
TZNAME:EET
DTSTART:20251026T010000
END:STANDARD
END:VTIMEZONE
BEGIN:VEVENT
DTSTART;TZID=Europe/Helsinki:20250410T130000
DTEND;TZID=Europe/Helsinki:20250411T180000
DTSTAMP:20260420T193429
CREATED:20250321T101031Z
LAST-MODIFIED:20250321T101031Z
UID:11594-1744290000-1744394400@www.simri.it
SUMMARY:Fibrosi Cistica a Roma: esperienze a confronto. Roma\, 10-11 aprile 2025
DESCRIPTION:Il 10-11 aprile 2025 si terrà a Roma l’evento Fibrosi Cistica a Roma: esperienze a confronto. \nECM\nL’evento è stato inserito nel programma nazionale di Educazione Continua in Medicina (ECM) con 11 crediti formativi per la professione di Dietista\, Fisioterapista\, Infermiere\, Infermiere Pediatrico\, Psicologo\, Tecnico Sanitario di Laboratorio Biomedico\, Terapista della Neuro e Psicomotricità dell’età evolutiva e Medico Chirurgo con le seguenti discipline:  Gastroenterologia\, Malattie dell’apparato Respiratorio\, Medicina Generale (Medici di Famiglia)\, Medicina Interna\, Neonatologia\,  Otorinolaringoiatria\, Pediatria\, Pediatria (Pediatri di Libera Scelta). \nISCRIZIONE\nPer maggiori informazioni visita il SITO WEB
URL:https://www.simri.it/evento/fibrosi-cistica-roma-2025/
LOCATION:Roma
CATEGORIES:Altri Eventi,Eventi ECM
ATTACH;FMTTYPE=image/jpeg:https://www.simri.it/wp-content/uploads/2025/03/c25-010_Post400x350.jpg
END:VEVENT
END:VCALENDAR