BEGIN:VCALENDAR
VERSION:2.0
PRODID:-//SIMRI - ECPv6.11.2//NONSGML v1.0//EN
CALSCALE:GREGORIAN
METHOD:PUBLISH
X-WR-CALNAME:SIMRI
X-ORIGINAL-URL:https://www.simri.it
X-WR-CALDESC:Eventi per SIMRI
REFRESH-INTERVAL;VALUE=DURATION:PT1H
X-Robots-Tag:noindex
X-PUBLISHED-TTL:PT1H
BEGIN:VTIMEZONE
TZID:Europe/Helsinki
BEGIN:DAYLIGHT
TZOFFSETFROM:+0200
TZOFFSETTO:+0300
TZNAME:EEST
DTSTART:20250330T010000
END:DAYLIGHT
BEGIN:STANDARD
TZOFFSETFROM:+0300
TZOFFSETTO:+0200
TZNAME:EET
DTSTART:20251026T010000
END:STANDARD
END:VTIMEZONE
BEGIN:VEVENT
DTSTART;TZID=Europe/Helsinki:20250301T083000
DTEND;TZID=Europe/Helsinki:20250301T180000
DTSTAMP:20260421T212616
CREATED:20250206T110709Z
LAST-MODIFIED:20250226T093532Z
UID:10758-1740817800-1740852000@www.simri.it
SUMMARY:Giornata ArIR 2025. Asma e asma grave: evidenze e nuove sfide per il fisioterapista - Milano\, 1° marzo 2025
DESCRIPTION:Si terrà a Milano il 1° marzo 2025 l’evento Giornata ArIR 2025. Asma e asma grave: evidenze e nuove sfide per il fisioterapista. \nIl corso è progettato per fornire ai fisioterapisti conoscenze approfondite e competenze pratiche nella gestione dell’asma. Gli obiettivi principali includono: \n\nApprofondire la fisiopatologia dell’asma e i meccanismi alla base della malattia;\nAcquisire competenze nell’uso di tecniche fisioterapiche specifiche per il miglioramento della funzione respiratoria;\nComprendere l’importanza dell’educazione del paziente e delle strategie di autogestione;\nIntegrare il trattamento fisioterapico con le altre figure sanitarie per una gestione multidisciplinare del paziente asmatico.\n\nPer maggiori informazioni scarica il PROGRAMMA FINALE
URL:https://www.simri.it/evento/giornata-arir-2025/
LOCATION:milano
CATEGORIES:Altri Eventi
ATTACH;FMTTYPE=image/png:https://www.simri.it/wp-content/uploads/2025/02/arir.png
END:VEVENT
END:VCALENDAR